View In:
ArcGIS JavaScript
ArcGIS Online Map Viewer
ArcGIS Earth
ArcMap
View Footprint In:
ArcGIS Online Map Viewer
Service Description: Cedar and pine classification for an expanded boundary around the Missouri Pine-Oak Woodland Restoration Project that is part of the Collaborative Forest Landscape Restoration Program. The project was developed between the Missouri Department of Conservation and USDA Forest Service. The classification used 2015 leaf-off imagery and 2016 NAIP imagery. Extreme gradient boosting with cross validation was used to classify the cedar and pine. Classifications were conducted on both image objects created by eCognition and directly on pixels. The final product is the majority of the pixel-classification that occur within the evergreen image objects. Posted to MSDIS 15 November 2022
Name: Research/Cedar_Pine_Classification
Description: Cedar and pine classification for an expanded boundary around the Missouri Pine-Oak Woodland Restoration Project that is part of the Collaborative Forest Landscape Restoration Program. The project was developed between the Missouri Department of Conservation and USDA Forest Service. The classification used 2015 leaf-off imagery and 2016 NAIP imagery. Extreme gradient boosting with cross validation was used to classify the cedar and pine. Classifications were conducted on both image objects created by eCognition and directly on pixels. The final product is the majority of the pixel-classification that occur within the evergreen image objects. Posted to MSDIS 15 November 2022
Single Fused Map Cache: false
Extent:
XMin: 615960.9322769372
YMin: 4040681.692936332
XMax: 728917.6822769372
YMax: 4145169.442936332
Spatial Reference: 26915
(26915)
Initial Extent:
XMin: 615960.9322769372
YMin: 4040681.692936332
XMax: 728917.6822769372
YMax: 4145169.442936332
Spatial Reference: 26915
(26915)
Full Extent:
XMin: 615960.9322769372
YMin: 4040681.692936332
XMax: 728917.6822769372
YMax: 4145169.442936332
Spatial Reference: 26915
(26915)
Pixel Size X: 0.45
Pixel Size Y: 0.45
Band Count: 1
Pixel Type: U16
RasterFunction Infos: {"rasterFunctionInfos": [{
"name": "None",
"description": "",
"help": ""
}]}
Mensuration Capabilities: Basic
Has Histograms: true
Has Colormap: false
Has Multi Dimensions : false
Rendering Rule:
Min Scale: 0
Max Scale: 0
Copyright Text: Missouri Department of Conservation, USDA Forest Service, University of Missouri, Missouri Resource Assessment Partnership (MoRAP)
Service Data Type: esriImageServiceDataTypeGeneric
Min Values: 0
Max Values: 1
Mean Values: 0.74959623724273
Standard Deviation Values: 0.43324556365852
Object ID Field:
Fields:
None
Default Mosaic Method: Center
Allowed Mosaic Methods:
SortField:
SortValue: null
Mosaic Operator: First
Default Compression Quality: 75
Default Resampling Method: Bilinear
Max Record Count: null
Max Image Height: 4100
Max Image Width: 15000
Max Download Image Count: null
Max Mosaic Image Count: null
Allow Raster Function: true
Allow Copy: null
Allow Analysis: null
Allow Compute TiePoints: false
Supports Statistics: false
Supports Advanced Queries: false
Use StandardizedQueries: true
Raster Type Infos:
Name: Raster Dataset
Description: Supports all ArcGIS Raster Datasets
Help:
Has Raster Attribute Table: true
Edit Fields Info: null
Ownership Based AccessControl For Rasters: null
Child Resources:
Info
Raster Attribute Table
Histograms
Key Properties
Legend
Raster Function Infos
Supported Operations:
Export Image
Identify
Measure
Compute Histograms
Compute Statistics Histograms
Get Samples
Compute Class Statistics
Query Boundary
Compute Pixel Location
Validate
Project