{
 "currentVersion": 10.81,
 "serviceDescription": "Cedar and pine classification for an expanded boundary around the Missouri Pine-Oak Woodland Restoration Project that is part of the Collaborative Forest Landscape Restoration Program. The project was developed between the Missouri Department of Conservation and USDA Forest Service. The classification used 2015 leaf-off imagery and 2016 NAIP imagery. Extreme gradient boosting with cross validation was used to classify the cedar and pine. Classifications were conducted on both image objects created by eCognition and directly on pixels. The final product is the majority of the pixel-classification that occur within the evergreen image objects. Posted to MSDIS 15 November 2022",
 "name": "Research/Cedar_Pine_Classification",
 "description": "Cedar and pine classification for an expanded boundary around the Missouri Pine-Oak Woodland Restoration Project that is part of the Collaborative Forest Landscape Restoration Program. The project was developed between the Missouri Department of Conservation and USDA Forest Service. The classification used 2015 leaf-off imagery and 2016 NAIP imagery. Extreme gradient boosting with cross validation was used to classify the cedar and pine. Classifications were conducted on both image objects created by eCognition and directly on pixels. The final product is the majority of the pixel-classification that occur within the evergreen image objects. Posted to MSDIS 15 November 2022",
 "extent": {
  "xmin": 615960.9322769372,
  "ymin": 4040681.692936332,
  "xmax": 728917.6822769372,
  "ymax": 4145169.442936332,
  "spatialReference": {
   "wkid": 26915,
   "latestWkid": 26915
  }
 },
 "initialExtent": {
  "xmin": 615960.9322769372,
  "ymin": 4040681.692936332,
  "xmax": 728917.6822769372,
  "ymax": 4145169.442936332,
  "spatialReference": {
   "wkid": 26915,
   "latestWkid": 26915
  }
 },
 "fullExtent": {
  "xmin": 615960.9322769372,
  "ymin": 4040681.692936332,
  "xmax": 728917.6822769372,
  "ymax": 4145169.442936332,
  "spatialReference": {
   "wkid": 26915,
   "latestWkid": 26915
  }
 },
 "pixelSizeX": 0.45,
 "pixelSizeY": 0.45,
 "bandCount": 1,
 "pixelType": "U16",
 "minPixelSize": 0,
 "maxPixelSize": 0,
 "copyrightText": "Missouri Department of Conservation, USDA Forest Service, University of Missouri, Missouri Resource Assessment Partnership (MoRAP)",
 "serviceDataType": "esriImageServiceDataTypeGeneric",
 "minValues": [
  0
 ],
 "maxValues": [
  1
 ],
 "meanValues": [
  0.74959623724273
 ],
 "stdvValues": [
  0.43324556365852
 ],
 "objectIdField": "",
 "fields": [],
 "capabilities": "Image,Metadata,Mensuration",
 "defaultMosaicMethod": "Center",
 "allowedMosaicMethods": "",
 "sortField": "",
 "sortValue": null,
 "sortAscending": true,
 "mosaicOperator": "First",
 "defaultCompressionQuality": 75,
 "defaultResamplingMethod": "Bilinear",
 "maxImageHeight": 4100,
 "maxImageWidth": 15000,
 "allowRasterFunction": true,
 "rasterFunctionInfos": [
  {
   "name": "None",
   "description": "",
   "help": ""
  }
 ],
 "rasterTypeInfos": [
  {
   "name": "Raster Dataset",
   "description": "Supports all ArcGIS Raster Datasets",
   "help": ""
  }
 ],
 "mensurationCapabilities": "Basic",
 "hasHistograms": true,
 "hasColormap": false,
 "hasRasterAttributeTable": true,
 "minScale": 0,
 "maxScale": 0,
 "exportTilesAllowed": false,
 "hasMultidimensions": false,
 "supportsStatistics": false,
 "supportsAdvancedQueries": false,
 "editFieldsInfo": null,
 "ownershipBasedAccessControlForRasters": null,
 "allowComputeTiePoints": false,
 "useStandardizedQueries": true,
 "advancedQueryCapabilities": {
  "useStandardizedQueries": true,
  "supportsStatistics": false,
  "supportsOrderBy": false,
  "supportsDistinct": false,
  "supportsPagination": false
 },
 "spatialReference": {
  "wkid": 26915,
  "latestWkid": 26915
 }
}