View In:
ArcGIS JavaScript
ArcGIS Online Map Viewer
ArcGIS Earth
ArcMap
View Footprint In:
ArcGIS Online Map Viewer
Service Description: LiDAR/Boone_2023_UTM
Name: LiDAR/Boone_2023_UTM
Description:
Single Fused Map Cache: false
Extent:
XMin: 1620200
YMin: 1020800
XMax: 1752700
YMax: 1245800
Spatial Reference: PROJCS["NAD_1983_2011_StatePlane_Missouri_Central_FIPS_2402",GEOGCS["GCS_NAD_1983_2011",DATUM["D_NAD_1983_2011",SPHEROID["GRS_1980",6378137.0,298.257222101]],PRIMEM["Greenwich",0.0],UNIT["Degree",0.0174532925199433]],PROJECTION["Transverse_Mercator"],PARAMETER["False_Easting",1640416.66666667],PARAMETER["False_Northing",0.0],PARAMETER["Central_Meridian",-92.5],PARAMETER["Scale_Factor",0.999933333333333],PARAMETER["Latitude_Of_Origin",35.8333333333333],UNIT["Foot_US",0.3048006096012192]]
Initial Extent:
XMin: 1620200
YMin: 1020800
XMax: 1752700
YMax: 1245800
Spatial Reference: PROJCS["NAD_1983_2011_StatePlane_Missouri_Central_FIPS_2402",GEOGCS["GCS_NAD_1983_2011",DATUM["D_NAD_1983_2011",SPHEROID["GRS_1980",6378137.0,298.257222101]],PRIMEM["Greenwich",0.0],UNIT["Degree",0.0174532925199433]],PROJECTION["Transverse_Mercator"],PARAMETER["False_Easting",1640416.66666667],PARAMETER["False_Northing",0.0],PARAMETER["Central_Meridian",-92.5],PARAMETER["Scale_Factor",0.999933333333333],PARAMETER["Latitude_Of_Origin",35.8333333333333],UNIT["Foot_US",0.3048006096012192]]
Full Extent:
XMin: 1620200
YMin: 1020800
XMax: 1752700
YMax: 1245800
Spatial Reference: PROJCS["NAD_1983_2011_StatePlane_Missouri_Central_FIPS_2402",GEOGCS["GCS_NAD_1983_2011",DATUM["D_NAD_1983_2011",SPHEROID["GRS_1980",6378137.0,298.257222101]],PRIMEM["Greenwich",0.0],UNIT["Degree",0.0174532925199433]],PROJECTION["Transverse_Mercator"],PARAMETER["False_Easting",1640416.66666667],PARAMETER["False_Northing",0.0],PARAMETER["Central_Meridian",-92.5],PARAMETER["Scale_Factor",0.999933333333333],PARAMETER["Latitude_Of_Origin",35.8333333333333],UNIT["Foot_US",0.3048006096012192]]
Pixel Size X: 1.0
Pixel Size Y: 1.0
Band Count: 1
Pixel Type: F32
RasterFunction Infos: {"rasterFunctionInfos": [{
"name": "None",
"description": "",
"help": ""
}]}
Mensuration Capabilities: Basic
Has Histograms: true
Has Colormap: false
Has Multi Dimensions : false
Rendering Rule:
Min Scale: 0
Max Scale: 0
Copyright Text:
Service Data Type: esriImageServiceDataTypeGeneric
Min Values: 456.56201171875
Max Values: 952.2009887695312
Mean Values: 772.9569288915887
Standard Deviation Values: 94.54053289748805
Object ID Field:
Fields:
None
Default Mosaic Method: Center
Allowed Mosaic Methods:
SortField:
SortValue: null
Mosaic Operator: First
Default Compression Quality: 75
Default Resampling Method: Nearest
Max Record Count: null
Max Image Height: 4100
Max Image Width: 15000
Max Download Image Count: null
Max Mosaic Image Count: null
Allow Raster Function: true
Allow Copy: true
Allow Analysis: true
Allow Compute TiePoints: false
Supports Statistics: false
Supports Advanced Queries: false
Use StandardizedQueries: true
Raster Type Infos:
Name: Raster Dataset
Description: Supports all ArcGIS Raster Datasets
Help:
Has Raster Attribute Table: false
Edit Fields Info: null
Ownership Based AccessControl For Rasters: null
Child Resources:
Info
Histograms
Statistics
Key Properties
Legend
Raster Function Infos
Supported Operations:
Export Image
Identify
Measure
Compute Histograms
Compute Statistics Histograms
Get Samples
Compute Class Statistics
Query Boundary
Compute Pixel Location
Validate
Project