{
 "currentVersion": 10.81,
 "serviceDescription": "LiDAR/Boone_2023_UTM",
 "name": "LiDAR/Boone_2023_UTM",
 "description": "",
 "extent": {
  "xmin": 1620200,
  "ymin": 1020800,
  "xmax": 1752700,
  "ymax": 1245800,
  "spatialReference": {"wkt": "PROJCS[\"NAD_1983_2011_StatePlane_Missouri_Central_FIPS_2402\",GEOGCS[\"GCS_NAD_1983_2011\",DATUM[\"D_NAD_1983_2011\",SPHEROID[\"GRS_1980\",6378137.0,298.257222101]],PRIMEM[\"Greenwich\",0.0],UNIT[\"Degree\",0.0174532925199433]],PROJECTION[\"Transverse_Mercator\"],PARAMETER[\"False_Easting\",1640416.66666667],PARAMETER[\"False_Northing\",0.0],PARAMETER[\"Central_Meridian\",-92.5],PARAMETER[\"Scale_Factor\",0.999933333333333],PARAMETER[\"Latitude_Of_Origin\",35.8333333333333],UNIT[\"Foot_US\",0.3048006096012192]]"}
 },
 "initialExtent": {
  "xmin": 1620200,
  "ymin": 1020800,
  "xmax": 1752700,
  "ymax": 1245800,
  "spatialReference": {"wkt": "PROJCS[\"NAD_1983_2011_StatePlane_Missouri_Central_FIPS_2402\",GEOGCS[\"GCS_NAD_1983_2011\",DATUM[\"D_NAD_1983_2011\",SPHEROID[\"GRS_1980\",6378137.0,298.257222101]],PRIMEM[\"Greenwich\",0.0],UNIT[\"Degree\",0.0174532925199433]],PROJECTION[\"Transverse_Mercator\"],PARAMETER[\"False_Easting\",1640416.66666667],PARAMETER[\"False_Northing\",0.0],PARAMETER[\"Central_Meridian\",-92.5],PARAMETER[\"Scale_Factor\",0.999933333333333],PARAMETER[\"Latitude_Of_Origin\",35.8333333333333],UNIT[\"Foot_US\",0.3048006096012192]]"}
 },
 "fullExtent": {
  "xmin": 1620200,
  "ymin": 1020800,
  "xmax": 1752700,
  "ymax": 1245800,
  "spatialReference": {"wkt": "PROJCS[\"NAD_1983_2011_StatePlane_Missouri_Central_FIPS_2402\",GEOGCS[\"GCS_NAD_1983_2011\",DATUM[\"D_NAD_1983_2011\",SPHEROID[\"GRS_1980\",6378137.0,298.257222101]],PRIMEM[\"Greenwich\",0.0],UNIT[\"Degree\",0.0174532925199433]],PROJECTION[\"Transverse_Mercator\"],PARAMETER[\"False_Easting\",1640416.66666667],PARAMETER[\"False_Northing\",0.0],PARAMETER[\"Central_Meridian\",-92.5],PARAMETER[\"Scale_Factor\",0.999933333333333],PARAMETER[\"Latitude_Of_Origin\",35.8333333333333],UNIT[\"Foot_US\",0.3048006096012192]]"}
 },
 "pixelSizeX": 1,
 "pixelSizeY": 1,
 "datasetFormat": "FGDBR",
 "uncompressedSize": 119250000000,
 "blockWidth": 128,
 "blockHeight": 128,
 "compressionType": "LZ77",
 "bandNames": [
  "Band_1"
 ],
 "allowCopy": true,
 "allowAnalysis": true,
 "bandCount": 1,
 "pixelType": "F32",
 "minPixelSize": 0,
 "maxPixelSize": 0,
 "copyrightText": "",
 "serviceDataType": "esriImageServiceDataTypeGeneric",
 "serviceSourceType": "esriImageServiceSourceTypeDataset",
 "minValues": [
  456.56201171875
 ],
 "maxValues": [
  952.2009887695312
 ],
 "meanValues": [
  772.9569288915887
 ],
 "stdvValues": [
  94.54053289748805
 ],
 "objectIdField": "",
 "fields": [],
 "capabilities": "Mensuration,Image,Metadata",
 "defaultMosaicMethod": "Center",
 "allowedMosaicMethods": "",
 "sortField": "",
 "sortValue": null,
 "sortAscending": true,
 "mosaicOperator": "First",
 "defaultCompressionQuality": 75,
 "defaultResamplingMethod": "Nearest",
 "maxImageHeight": 4100,
 "maxImageWidth": 15000,
 "allowRasterFunction": true,
 "rasterFunctionInfos": [
  {
   "name": "None",
   "description": "",
   "help": ""
  }
 ],
 "rasterTypeInfos": [
  {
   "name": "Raster Dataset",
   "description": "Supports all ArcGIS Raster Datasets",
   "help": ""
  }
 ],
 "mensurationCapabilities": "Basic",
 "hasHistograms": true,
 "hasColormap": false,
 "hasRasterAttributeTable": false,
 "minScale": 0,
 "maxScale": 0,
 "exportTilesAllowed": false,
 "hasMultidimensions": false,
 "supportsStatistics": false,
 "supportsAdvancedQueries": false,
 "editFieldsInfo": null,
 "ownershipBasedAccessControlForRasters": null,
 "allowComputeTiePoints": false,
 "useStandardizedQueries": true,
 "advancedQueryCapabilities": {
  "useStandardizedQueries": true,
  "supportsStatistics": false,
  "supportsOrderBy": false,
  "supportsDistinct": false,
  "supportsPagination": false
 },
 "spatialReference": {"wkt": "PROJCS[\"NAD_1983_2011_StatePlane_Missouri_Central_FIPS_2402\",GEOGCS[\"GCS_NAD_1983_2011\",DATUM[\"D_NAD_1983_2011\",SPHEROID[\"GRS_1980\",6378137.0,298.257222101]],PRIMEM[\"Greenwich\",0.0],UNIT[\"Degree\",0.0174532925199433]],PROJECTION[\"Transverse_Mercator\"],PARAMETER[\"False_Easting\",1640416.66666667],PARAMETER[\"False_Northing\",0.0],PARAMETER[\"Central_Meridian\",-92.5],PARAMETER[\"Scale_Factor\",0.999933333333333],PARAMETER[\"Latitude_Of_Origin\",35.8333333333333],UNIT[\"Foot_US\",0.3048006096012192]]"}
}