View In:
ArcGIS JavaScript
ArcGIS Online Map Viewer
ArcGIS Earth
ArcMap
View Footprint In:
ArcGIS Online Map Viewer
Service Description: Dynamic cache service of 2022/2023 statewide imagery collection. As of 13 January 2023, this service currently contains only the 12 inch resolution imagery collected in 2022 of the Mid America Regional Council.
PLEASE NOTE: This is a TEMPORARY SERVICE meant to make these valuable data available to users as quickly as possible. The data featured in this service will eventually be included in the 2022/2023 Statewide imagery service. Once the various projects are consolidated in a single service, this service will be removed.
Name: Statewide/MARC_6inch_12inch_2022_2023_Detail
Description: Dynamic cache service of 2022/2023 statewide imagery collection. As of 13 January 2023, this service currently contains only the 12 inch resolution imagery collected in 2022 of the Mid America Regional Council.
PLEASE NOTE: This is a TEMPORARY SERVICE meant to make these valuable data available to users as quickly as possible. The data featured in this service will eventually be included in the 2022/2023 Statewide imagery service. Once the various projects are consolidated in a single service, this service will be removed.
Single Fused Map Cache: false
Extent:
XMin: 358500
YMin: 4260800.1
XMax: 528000
YMax: 4406300.1
Spatial Reference: 26915
(26915)
Initial Extent:
XMin: 358500
YMin: 4260800.1
XMax: 528000
YMax: 4406300.1
Spatial Reference: 26915
(26915)
Full Extent:
XMin: 358500
YMin: 4260800.1
XMax: 528000
YMax: 4406300.1
Spatial Reference: 26915
(26915)
Pixel Size X: 0.3
Pixel Size Y: 0.3
Band Count: 4
Pixel Type: U8
RasterFunction Infos: {"rasterFunctionInfos": [{
"name": "None",
"description": "",
"help": ""
}]}
Mensuration Capabilities: None
Has Histograms: true
Has Colormap: false
Has Multi Dimensions : false
Rendering Rule:
Min Scale: 0
Max Scale: 0
Copyright Text:
Service Data Type: esriImageServiceDataTypeGeneric
Min Values: 23, 22, 29, 1
Max Values: 237, 237, 237, 226
Mean Values: 120.34811818200534, 114.93891544651042, 95.98539445849944, 129.68054201750778
Standard Deviation Values: 25.115528617277754, 22.56621777217958, 20.383016468069396, 26.41078686593249
Object ID Field: OBJECTID
Fields:
-
OBJECTID
(
type: esriFieldTypeOID, alias: OBJECTID
)
-
Shape
(
type: esriFieldTypeGeometry, alias: Shape
)
-
Name
(
type: esriFieldTypeString, alias: Name, length: 200
)
-
MinPS
(
type: esriFieldTypeDouble, alias: MinPS
)
-
MaxPS
(
type: esriFieldTypeDouble, alias: MaxPS
)
-
LowPS
(
type: esriFieldTypeDouble, alias: LowPS
)
-
HighPS
(
type: esriFieldTypeDouble, alias: HighPS
)
-
Category
(
type: esriFieldTypeInteger, alias: Category
, Coded Values:
[0: Unknown]
, [1: Primary]
, [2: Overview]
, ...6 more...
)
-
Tag
(
type: esriFieldTypeString, alias: Tag, length: 100
)
-
GroupName
(
type: esriFieldTypeString, alias: GroupName, length: 100
)
-
ProductName
(
type: esriFieldTypeString, alias: ProductName, length: 100
)
-
CenterX
(
type: esriFieldTypeDouble, alias: CenterX
)
-
CenterY
(
type: esriFieldTypeDouble, alias: CenterY
)
-
ZOrder
(
type: esriFieldTypeInteger, alias: ZOrder
)
-
Shape_Length
(
type: esriFieldTypeDouble, alias: Shape_Length
)
-
Shape_Area
(
type: esriFieldTypeDouble, alias: Shape_Area
)
Default Mosaic Method: Northwest
Allowed Mosaic Methods: NorthWest,Center,LockRaster,ByAttribute,Nadir,Viewpoint,Seamline,None
SortField:
SortValue: null
Mosaic Operator: First
Default Compression Quality: 75
Default Resampling Method: Bilinear
Max Record Count: 1000
Max Image Height: 4100
Max Image Width: 15000
Max Download Image Count: 20
Max Mosaic Image Count: 20
Allow Raster Function: true
Allow Copy: null
Allow Analysis: null
Allow Compute TiePoints: false
Supports Statistics: true
Supports Advanced Queries: true
Use StandardizedQueries: true
Raster Type Infos:
Name: Raster Dataset
Description: Supports all ArcGIS Raster Datasets
Help:
Has Raster Attribute Table: false
Edit Fields Info: null
Ownership Based AccessControl For Rasters: null
Child Resources:
Info
Histograms
Key Properties
Legend
Raster Function Infos
Supported Operations:
Export Image
Identify
Compute Histograms
Compute Statistics Histograms
Get Samples
Compute Class Statistics
Query Boundary
Compute Pixel Location
Validate
Project