View In:
ArcGIS JavaScript
ArcGIS Online Map Viewer
ArcGIS Earth
ArcMap
View Footprint In:
ArcGIS Online Map Viewer
Service Description: Research/Boone_County_2023_1m_Tree_Canopy
Name: Research/Boone_County_2023_1m_Tree_Canopy
Description:
Single Fused Map Cache: false
Extent:
XMin: 537222.924242893
YMin: 4277681.929111114
XMax: 577285.924242893
YMax: 4344540.929111114
Spatial Reference: 26915
(26915)
Initial Extent:
XMin: 537222.924242893
YMin: 4277681.929111114
XMax: 577285.924242893
YMax: 4344540.929111114
Spatial Reference: 26915
(26915)
Full Extent:
XMin: 537222.924242893
YMin: 4277681.929111114
XMax: 577285.924242893
YMax: 4344540.929111114
Spatial Reference: 26915
(26915)
Pixel Size X: 1.0
Pixel Size Y: 1.0
Band Count: 1
Pixel Type: F32
RasterFunction Infos: {"rasterFunctionInfos": [{
"name": "None",
"description": "",
"help": ""
}]}
Mensuration Capabilities: Basic
Has Histograms: true
Has Colormap: false
Has Multi Dimensions : false
Rendering Rule:
Min Scale: 0
Max Scale: 0
Copyright Text:
Service Data Type: esriImageServiceDataTypeGeneric
Min Values: 10
Max Values: 148.44097900391
Mean Values: 49.387409267134
Standard Deviation Values: 19.561144784968
Object ID Field:
Fields:
None
Default Mosaic Method: Center
Allowed Mosaic Methods:
SortField:
SortValue: null
Mosaic Operator: First
Default Compression Quality: 75
Default Resampling Method: Bilinear
Max Record Count: null
Max Image Height: 4100
Max Image Width: 15000
Max Download Image Count: null
Max Mosaic Image Count: null
Allow Raster Function: true
Allow Copy: true
Allow Analysis: true
Allow Compute TiePoints: false
Supports Statistics: false
Supports Advanced Queries: false
Use StandardizedQueries: true
Raster Type Infos:
Name: Raster Dataset
Description: Supports all ArcGIS Raster Datasets
Help:
Has Raster Attribute Table: false
Edit Fields Info: null
Ownership Based AccessControl For Rasters: null
Child Resources:
Info
Histograms
Statistics
Key Properties
Legend
Raster Function Infos
Supported Operations:
Export Image
Identify
Measure
Compute Histograms
Compute Statistics Histograms
Get Samples
Compute Class Statistics
Query Boundary
Compute Pixel Location
Validate
Project