View In:
ArcGIS JavaScript
ArcGIS Online Map Viewer
ArcGIS Earth
ArcMap
View Footprint In:
ArcGIS Online Map Viewer
Service Description: Dynamic cache image service of Missouri statewide 20202 NAIP. Owing to the dynamic caching, this service responds slower than the NAIP2022 image service (which uses a tiled cache) but is able to achieve finer details. Published 03 Feb 2023.
Name: MSDIS/NAIP2022_Detail
Description: Dynamic cache image service of Missouri statewide 20202 NAIP. Owing to the dynamic caching, this service responds slower than the NAIP2022 image service (which uses a tiled cache) but is able to achieve finer details. Published 03 Feb 2023.
Single Fused Map Cache: false
Extent:
XMin: 261413.4000000031
YMin: 3979807.8000000017
XMax: 852127.1999999969
YMax: 4501231.199999996
Spatial Reference: 26915
(26915)
Initial Extent:
XMin: 261413.4000000031
YMin: 3979807.8000000017
XMax: 852127.1999999969
YMax: 4501231.199999996
Spatial Reference: 26915
(26915)
Full Extent:
XMin: 261413.4000000031
YMin: 3979807.8000000017
XMax: 852127.1999999969
YMax: 4501231.199999996
Spatial Reference: 26915
(26915)
Pixel Size X: 0.5999999999999936
Pixel Size Y: 0.599999999999994
Band Count: 3
Pixel Type: U8
RasterFunction Infos: {"rasterFunctionInfos": [{
"name": "None",
"description": "",
"help": ""
}]}
Mensuration Capabilities: None
Has Histograms: true
Has Colormap: false
Has Multi Dimensions : false
Rendering Rule:
Min Scale: 0
Max Scale: 0
Copyright Text:
Service Data Type: esriImageServiceDataTypeRGB
Min Values: 15, 16, 20
Max Values: 230, 225, 218
Mean Values: 101.3290166972919, 112.50601766043513, 86.31253632044616
Standard Deviation Values: 32.234120894677055, 25.02442273753697, 25.168874830231555
Object ID Field: OBJECTID
Fields:
-
OBJECTID
(
type: esriFieldTypeOID, alias: OBJECTID
)
-
Shape
(
type: esriFieldTypeGeometry, alias: Shape
)
-
Name
(
type: esriFieldTypeString, alias: Name, length: 200
)
-
MinPS
(
type: esriFieldTypeDouble, alias: MinPS
)
-
MaxPS
(
type: esriFieldTypeDouble, alias: MaxPS
)
-
LowPS
(
type: esriFieldTypeDouble, alias: LowPS
)
-
HighPS
(
type: esriFieldTypeDouble, alias: HighPS
)
-
Category
(
type: esriFieldTypeInteger, alias: Category
, Coded Values:
[0: Unknown]
, [1: Primary]
, [2: Overview]
, ...6 more...
)
-
Tag
(
type: esriFieldTypeString, alias: Tag, length: 100
)
-
GroupName
(
type: esriFieldTypeString, alias: GroupName, length: 100
)
-
ProductName
(
type: esriFieldTypeString, alias: ProductName, length: 100
)
-
CenterX
(
type: esriFieldTypeDouble, alias: CenterX
)
-
CenterY
(
type: esriFieldTypeDouble, alias: CenterY
)
-
ZOrder
(
type: esriFieldTypeInteger, alias: ZOrder
)
-
Shape_Length
(
type: esriFieldTypeDouble, alias: Shape_Length
)
-
Shape_Area
(
type: esriFieldTypeDouble, alias: Shape_Area
)
Default Mosaic Method: Northwest
Allowed Mosaic Methods: NorthWest,Center,LockRaster,ByAttribute,Nadir,Viewpoint,Seamline,None
SortField:
SortValue: null
Mosaic Operator: First
Default Compression Quality: 75
Default Resampling Method: Bilinear
Max Record Count: 1000
Max Image Height: 4100
Max Image Width: 15000
Max Download Image Count: 20
Max Mosaic Image Count: 20
Allow Raster Function: true
Allow Copy: null
Allow Analysis: null
Allow Compute TiePoints: false
Supports Statistics: true
Supports Advanced Queries: true
Use StandardizedQueries: true
Raster Type Infos:
Name: Raster Dataset
Description: Supports all ArcGIS Raster Datasets
Help:
Has Raster Attribute Table: false
Edit Fields Info: null
Ownership Based AccessControl For Rasters: null
Child Resources:
Info
Histograms
Key Properties
Legend
Raster Function Infos
Supported Operations:
Export Image
Identify
Compute Histograms
Compute Statistics Histograms
Get Samples
Compute Class Statistics
Query Boundary
Compute Pixel Location
Validate
Project