View In:
ArcGIS JavaScript
ArcGIS Online Map Viewer
ArcGIS Earth
ArcMap
View Footprint In:
ArcGIS Online Map Viewer
Service Description: Missouri statewide 2002 NAIP image service
Name: MSDIS/NAIP2002
Description: Missouri statewide 2002 NAIP image service
Single Fused Map Cache: false
Extent:
XMin: 357080.4300022125
YMin: 4205448.671602249
XMax: 656441.4365000008
YMax: 4497585.548402789
Spatial Reference: 26915
(26915)
Initial Extent:
XMin: 357080.4300022125
YMin: 4205448.671602249
XMax: 656441.4365000008
YMax: 4497585.548402789
Spatial Reference: 26915
(26915)
Full Extent:
XMin: 357080.4300022125
YMin: 4205448.671602249
XMax: 656441.4365000008
YMax: 4497585.548402789
Spatial Reference: 26915
(26915)
Pixel Size X: 1.9999933625362487
Pixel Size Y: 1.9999923104870978
Band Count: 3
Pixel Type: U8
RasterFunction Infos: {"rasterFunctionInfos": [{
"name": "None",
"description": "",
"help": ""
}]}
Mensuration Capabilities: Basic
Has Histograms: false
Has Colormap: false
Has Multi Dimensions : false
Rendering Rule:
Min Scale: 0
Max Scale: 0
Copyright Text:
Service Data Type: esriImageServiceDataTypeRGB
Min Values: N/A
Max Values: N/A
Mean Values: N/A
Standard Deviation Values: N/A
Object ID Field:
Fields:
None
Default Mosaic Method: Center
Allowed Mosaic Methods:
SortField:
SortValue: null
Mosaic Operator: First
Default Compression Quality: 75
Default Resampling Method: Bilinear
Max Record Count: null
Max Image Height: 4100
Max Image Width: 15000
Max Download Image Count: null
Max Mosaic Image Count: null
Allow Raster Function: true
Allow Copy: null
Allow Analysis: null
Allow Compute TiePoints: false
Supports Statistics: false
Supports Advanced Queries: false
Use StandardizedQueries: true
Raster Type Infos:
Name: Raster Dataset
Description: Supports all ArcGIS Raster Datasets
Help:
Has Raster Attribute Table: false
Edit Fields Info: null
Ownership Based AccessControl For Rasters: null
Child Resources:
Info
Key Properties
Legend
Raster Function Infos
Supported Operations:
Export Image
Identify
Measure
Compute Histograms
Compute Statistics Histograms
Get Samples
Compute Class Statistics
Query Boundary
Compute Pixel Location
Validate
Project