View In:
ArcGIS JavaScript
ArcGIS Online Map Viewer
ArcGIS Earth
ArcMap
View Footprint In:
ArcGIS Online Map Viewer
Service Description: Image service of 1-meter resolution LiDAR data of St Louis collected 2017
Name: LiDAR/StLouis_2017_UTM
Description: Image service of 1-meter resolution LiDAR data of St Louis collected 2017
Single Fused Map Cache: false
Extent:
XMin: 686493.4
YMin: 4244140.250998173
XMax: 763423.4
YMax: 4315942.250998173
Spatial Reference: 26915
(26915)
Initial Extent:
XMin: 686493.4
YMin: 4244140.250998173
XMax: 763423.4
YMax: 4315942.250998173
Spatial Reference: 26915
(26915)
Full Extent:
XMin: 686493.4
YMin: 4244140.250998173
XMax: 763423.4
YMax: 4315942.250998173
Spatial Reference: 26915
(26915)
Pixel Size X: 1.0
Pixel Size Y: 1.0
Band Count: 1
Pixel Type: F32
RasterFunction Infos: {"rasterFunctionInfos": [{
"name": "None",
"description": "",
"help": ""
}]}
Mensuration Capabilities: Basic
Has Histograms: true
Has Colormap: false
Has Multi Dimensions : false
Rendering Rule:
Min Scale: 0
Max Scale: 0
Copyright Text:
Service Data Type: esriImageServiceDataTypeGeneric
Min Values: 0
Max Values: 249.07952880859375
Mean Values: 159.50134692603405
Standard Deviation Values: 24.17984689146822
Object ID Field:
Fields:
None
Default Mosaic Method: Center
Allowed Mosaic Methods:
SortField:
SortValue: null
Mosaic Operator: First
Default Compression Quality: 75
Default Resampling Method: Bilinear
Max Record Count: null
Max Image Height: 4100
Max Image Width: 15000
Max Download Image Count: null
Max Mosaic Image Count: null
Allow Raster Function: true
Allow Copy: null
Allow Analysis: null
Allow Compute TiePoints: false
Supports Statistics: false
Supports Advanced Queries: false
Use StandardizedQueries: true
Raster Type Infos:
Name: Raster Dataset
Description: Supports all ArcGIS Raster Datasets
Help:
Has Raster Attribute Table: false
Edit Fields Info: null
Ownership Based AccessControl For Rasters: null
Child Resources:
Info
Histograms
Key Properties
Legend
Raster Function Infos
Supported Operations:
Export Image
Identify
Measure
Compute Histograms
Compute Statistics Histograms
Get Samples
Compute Class Statistics
Query Boundary
Compute Pixel Location
Validate
Project