View In:
ArcGIS JavaScript
ArcGIS Online Map Viewer
ArcGIS Earth
ArcMap
View Footprint In:
ArcGIS Online Map Viewer
Service Description: Image service of QL2 LiDAR acquired by FEMA from December 12, 2017 to April 24, 2018.
Name: LiDAR/FEMANorth_2017_UTM
Description: Image service of QL2 LiDAR acquired by FEMA from December 12, 2017 to April 24, 2018.
Single Fused Map Cache: false
Extent:
XMin: 444000
YMin: 4075500
XMax: 754500
YMax: 4287000
Spatial Reference: 102384
(6344)
Initial Extent:
XMin: 444000
YMin: 4075500
XMax: 754500
YMax: 4287000
Spatial Reference: 102384
(6344)
Full Extent:
XMin: 444000
YMin: 4075500
XMax: 754500
YMax: 4287000
Spatial Reference: 102384
(6344)
Pixel Size X: 1.0
Pixel Size Y: 1.0
Band Count: 1
Pixel Type: F32
RasterFunction Infos: {"rasterFunctionInfos": [{
"name": "None",
"description": "",
"help": ""
}]}
Mensuration Capabilities: Basic
Has Histograms: true
Has Colormap: false
Has Multi Dimensions : false
Rendering Rule:
Min Scale: 0
Max Scale: 0
Copyright Text:
Service Data Type: esriImageServiceDataTypeGeneric
Min Values: 119.20475769042969
Max Values: 540.0241088867188
Mean Values: 299.44369913447633
Standard Deviation Values: 59.782480670078826
Object ID Field:
Fields:
None
Default Mosaic Method: Center
Allowed Mosaic Methods:
SortField:
SortValue: null
Mosaic Operator: First
Default Compression Quality: 75
Default Resampling Method: Bilinear
Max Record Count: null
Max Image Height: 4100
Max Image Width: 15000
Max Download Image Count: null
Max Mosaic Image Count: null
Allow Raster Function: true
Allow Copy: null
Allow Analysis: null
Allow Compute TiePoints: false
Supports Statistics: false
Supports Advanced Queries: false
Use StandardizedQueries: true
Raster Type Infos:
Name: Raster Dataset
Description: Supports all ArcGIS Raster Datasets
Help:
Has Raster Attribute Table: false
Edit Fields Info: null
Ownership Based AccessControl For Rasters: null
Child Resources:
Info
Histograms
Key Properties
Legend
Raster Function Infos
Supported Operations:
Export Image
Identify
Measure
Compute Histograms
Compute Statistics Histograms
Get Samples
Compute Class Statistics
Query Boundary
Compute Pixel Location
Validate
Project