View In:
ArcGIS JavaScript
ArcGIS Online Map Viewer
ArcGIS Earth
ArcMap
View Footprint In:
ArcGIS Online Map Viewer
Service Description: Boone County, MO contracted with Surdex Corporation in the fall of 2014 to collect high resolution LiDAR elevation data over Boone County Missouri. LiDAR data was acquired leaf-off, snow-free and while water bodies are at below to normal levels by Surdex for Boone County from January 30 to March 12, 2015.
Name: LiDAR/Boone_2015_UTM
Description: Boone County, MO contracted with Surdex Corporation in the fall of 2014 to collect high resolution LiDAR elevation data over Boone County Missouri. LiDAR data was acquired leaf-off, snow-free and while water bodies are at below to normal levels by Surdex for Boone County from January 30 to March 12, 2015.
Single Fused Map Cache: false
Extent:
XMin: 536382.0569000002
YMin: 4276729.9325897135
XMax: 578187.2893104648
YMax: 4345285.0761
Spatial Reference: 26915
(26915)
Initial Extent:
XMin: 536382.0569000002
YMin: 4276729.9325897135
XMax: 578187.2893104648
YMax: 4345285.0761
Spatial Reference: 26915
(26915)
Full Extent:
XMin: 536382.0569000002
YMin: 4276729.9325897135
XMax: 578187.2893104648
YMax: 4345285.0761
Spatial Reference: 26915
(26915)
Pixel Size X: 0.6096012192024345
Pixel Size Y: 0.6096012192024355
Band Count: 1
Pixel Type: F32
RasterFunction Infos: {"rasterFunctionInfos": [{
"name": "None",
"description": "",
"help": ""
}]}
Mensuration Capabilities: Basic
Has Histograms: true
Has Colormap: false
Has Multi Dimensions : false
Rendering Rule:
Min Scale: 0
Max Scale: 0
Copyright Text:
Service Data Type: esriImageServiceDataTypeGeneric
Min Values: 209.79708862304688
Max Values: 952.3970336914062
Mean Values: 769.0784952608898
Standard Deviation Values: 98.13799403986525
Object ID Field:
Fields:
None
Default Mosaic Method: Center
Allowed Mosaic Methods:
SortField:
SortValue: null
Mosaic Operator: First
Default Compression Quality: 75
Default Resampling Method: Bilinear
Max Record Count: null
Max Image Height: 4100
Max Image Width: 15000
Max Download Image Count: null
Max Mosaic Image Count: null
Allow Raster Function: true
Allow Copy: null
Allow Analysis: null
Allow Compute TiePoints: false
Supports Statistics: false
Supports Advanced Queries: false
Use StandardizedQueries: true
Raster Type Infos:
Name: Raster Dataset
Description: Supports all ArcGIS Raster Datasets
Help:
Has Raster Attribute Table: false
Edit Fields Info: null
Ownership Based AccessControl For Rasters: null
Child Resources:
Info
Histograms
Key Properties
Legend
Raster Function Infos
Supported Operations:
Export Image
Identify
Measure
Compute Histograms
Compute Statistics Histograms
Get Samples
Compute Class Statistics
Query Boundary
Compute Pixel Location
Validate
Project