View In:
ArcGIS JavaScript
ArcGIS Online Map Viewer
ArcGIS Earth
ArcMap
View Footprint In:
ArcGIS Online Map Viewer
Service Description: 3-inch resolution imagery of Cape Girardeau. Published 10 May 2022
Name: LGov/Cape2021_3inch
Description: 3-inch resolution imagery of Cape Girardeau. Published 10 May 2022
Single Fused Map Cache: false
Extent:
XMin: 1004520
YMin: 471240
XMax: 1133880
YMax: 648120
Spatial Reference: 102696
(102696)
Initial Extent:
XMin: 1004520
YMin: 471240
XMax: 1133880
YMax: 648120
Spatial Reference: 102696
(102696)
Full Extent:
XMin: 1004520
YMin: 471240
XMax: 1133880
YMax: 648120
Spatial Reference: 102696
(102696)
Pixel Size X: 0.25
Pixel Size Y: 0.25
Band Count: 3
Pixel Type: U8
RasterFunction Infos: {"rasterFunctionInfos": [{
"name": "None",
"description": "",
"help": ""
}]}
Mensuration Capabilities: Basic
Has Histograms: true
Has Colormap: false
Has Multi Dimensions : false
Rendering Rule:
Min Scale: 0
Max Scale: 0
Copyright Text:
Service Data Type: esriImageServiceDataTypeProcessed
Min Values: 76, 53, 8
Max Values: 255, 255, 255
Mean Values: 165.19378591954, 152.01957614943, 126.59213362069
Standard Deviation Values: 54.345785693024, 61.769749485849, 75.813313720335
Object ID Field:
Fields:
None
Default Mosaic Method: Center
Allowed Mosaic Methods:
SortField:
SortValue: null
Mosaic Operator: First
Default Compression Quality: 75
Default Resampling Method: Bilinear
Max Record Count: null
Max Image Height: 4100
Max Image Width: 15000
Max Download Image Count: null
Max Mosaic Image Count: null
Allow Raster Function: true
Allow Copy: null
Allow Analysis: null
Allow Compute TiePoints: false
Supports Statistics: false
Supports Advanced Queries: false
Use StandardizedQueries: true
Raster Type Infos:
Name: Raster Dataset
Description: Supports all ArcGIS Raster Datasets
Help:
Has Raster Attribute Table: false
Edit Fields Info: null
Ownership Based AccessControl For Rasters: null
Child Resources:
Info
Histograms
Key Properties
Legend
Raster Function Infos
Supported Operations:
Export Image
Identify
Measure
Compute Histograms
Compute Statistics Histograms
Get Samples
Compute Class Statistics
Query Boundary
Compute Pixel Location
Validate
Project