{
 "currentVersion": 10.81,
 "serviceDescription": "Tiled cache service of 2022/2023 statewide imagery collection. As of 19 November 2022, this service currently contains only the 12 inch resolution imagery collected in 2022 of southern Missouri.",
 "name": "Statewide/Missouri_6in_12in_2022_2023",
 "description": "Tiled cache service of 2022/2023 statewide imagery collection. As of 19 November 2022, this service currently contains only the 12 inch resolution imagery collected in 2022 of southern Missouri.",
 "extent": {
  "xmin": 354000,
  "ymin": 3984800.0999999996,
  "xmax": 850500,
  "ymax": 4308800.1,
  "spatialReference": {
   "wkid": 26915,
   "latestWkid": 26915
  }
 },
 "initialExtent": {
  "xmin": 354000,
  "ymin": 3984800.0999999996,
  "xmax": 850500,
  "ymax": 4308800.1,
  "spatialReference": {
   "wkid": 26915,
   "latestWkid": 26915
  }
 },
 "fullExtent": {
  "xmin": 354000,
  "ymin": 3984800.0999999996,
  "xmax": 850500,
  "ymax": 4308800.1,
  "spatialReference": {
   "wkid": 26915,
   "latestWkid": 26915
  }
 },
 "pixelSizeX": 0.3,
 "pixelSizeY": 0.3,
 "bandCount": 4,
 "pixelType": "U8",
 "minPixelSize": 1.0583354500042335,
 "maxPixelSize": 33072.9828126323,
 "copyrightText": "",
 "serviceDataType": "esriImageServiceDataTypeGeneric",
 "minValues": [
  1,
  21,
  16,
  1
 ],
 "maxValues": [
  235,
  234,
  226,
  241
 ],
 "meanValues": [
  111.67812609578053,
  108.60620340878053,
  83.37236738052965,
  153.58029351827375
 ],
 "stdvValues": [
  26.86200981476756,
  23.85650758388036,
  18.860030155132044,
  31.95314796587843
 ],
 "objectIdField": "OBJECTID",
 "fields": [
  {
   "name": "OBJECTID",
   "type": "esriFieldTypeOID",
   "alias": "OBJECTID",
   "domain": null
  },
  {
   "name": "Shape",
   "type": "esriFieldTypeGeometry",
   "alias": "Shape",
   "domain": null
  },
  {
   "name": "Name",
   "type": "esriFieldTypeString",
   "alias": "Name",
   "domain": null,
   "length": 200
  },
  {
   "name": "MinPS",
   "type": "esriFieldTypeDouble",
   "alias": "MinPS",
   "domain": null
  },
  {
   "name": "MaxPS",
   "type": "esriFieldTypeDouble",
   "alias": "MaxPS",
   "domain": null
  },
  {
   "name": "LowPS",
   "type": "esriFieldTypeDouble",
   "alias": "LowPS",
   "domain": null
  },
  {
   "name": "HighPS",
   "type": "esriFieldTypeDouble",
   "alias": "HighPS",
   "domain": null
  },
  {
   "name": "Category",
   "type": "esriFieldTypeInteger",
   "alias": "Category",
   "domain": {
    "type": "codedValue",
    "name": "MosaicCatalogItemCategoryDomain",
    "description": "Catalog item categories.",
    "codedValues": [
     {
      "name": "Unknown",
      "code": 0
     },
     {
      "name": "Primary",
      "code": 1
     },
     {
      "name": "Overview",
      "code": 2
     },
     {
      "name": "Unprocessed Overview",
      "code": 3
     },
     {
      "name": "Partial Overview",
      "code": 4
     },
     {
      "name": "Inactive",
      "code": 5
     },
     {
      "name": "Uploaded",
      "code": 253
     },
     {
      "name": "Incomplete",
      "code": 254
     },
     {
      "name": "Custom",
      "code": 255
     }
    ],
    "mergePolicy": "esriMPTDefaultValue",
    "splitPolicy": "esriSPTDefaultValue"
   }
  },
  {
   "name": "Tag",
   "type": "esriFieldTypeString",
   "alias": "Tag",
   "domain": null,
   "length": 100
  },
  {
   "name": "GroupName",
   "type": "esriFieldTypeString",
   "alias": "GroupName",
   "domain": null,
   "length": 100
  },
  {
   "name": "ProductName",
   "type": "esriFieldTypeString",
   "alias": "ProductName",
   "domain": null,
   "length": 100
  },
  {
   "name": "CenterX",
   "type": "esriFieldTypeDouble",
   "alias": "CenterX",
   "domain": null
  },
  {
   "name": "CenterY",
   "type": "esriFieldTypeDouble",
   "alias": "CenterY",
   "domain": null
  },
  {
   "name": "ZOrder",
   "type": "esriFieldTypeInteger",
   "alias": "ZOrder",
   "domain": null
  },
  {
   "name": "Shape_Length",
   "type": "esriFieldTypeDouble",
   "alias": "Shape_Length",
   "domain": null
  },
  {
   "name": "Shape_Area",
   "type": "esriFieldTypeDouble",
   "alias": "Shape_Area",
   "domain": null
  }
 ],
 "capabilities": "Image,Metadata",
 "defaultMosaicMethod": "Northwest",
 "allowedMosaicMethods": "NorthWest,Center,LockRaster,ByAttribute,Nadir,Viewpoint,Seamline,None",
 "sortField": "",
 "sortValue": null,
 "sortAscending": true,
 "mosaicOperator": "First",
 "maxDownloadSizeLimit": 2048,
 "defaultCompressionQuality": 75,
 "defaultResamplingMethod": "Bilinear",
 "maxImageHeight": 4100,
 "maxImageWidth": 15000,
 "maxRecordCount": 1000,
 "maxDownloadImageCount": 20,
 "maxMosaicImageCount": 20,
 "singleFusedMapCache": true,
 "tileInfo": {
  "rows": 256,
  "cols": 256,
  "dpi": 96,
  "format": "MIXED",
  "compressionQuality": 75,
  "origin": {
   "x": -5120900,
   "y": 9998100
  },
  "spatialReference": {
   "wkid": 26915,
   "latestWkid": 26915
  },
  "lods": [
   {
    "level": 0,
    "resolution": 33072.9828126323,
    "scale": 125000000
   },
   {
    "level": 1,
    "resolution": 16933.367200067736,
    "scale": 64000000
   },
   {
    "level": 2,
    "resolution": 8466.683600033868,
    "scale": 32000000
   },
   {
    "level": 3,
    "resolution": 4233.341800016934,
    "scale": 16000000
   },
   {
    "level": 4,
    "resolution": 2116.670900008467,
    "scale": 8000000
   },
   {
    "level": 5,
    "resolution": 1058.3354500042335,
    "scale": 4000000
   },
   {
    "level": 6,
    "resolution": 529.1677250021168,
    "scale": 2000000
   },
   {
    "level": 7,
    "resolution": 264.5838625010584,
    "scale": 1000000
   },
   {
    "level": 8,
    "resolution": 132.2919312505292,
    "scale": 500000
   },
   {
    "level": 9,
    "resolution": 66.1459656252646,
    "scale": 250000
   },
   {
    "level": 10,
    "resolution": 33.0729828126323,
    "scale": 125000
   },
   {
    "level": 11,
    "resolution": 16.933367200067735,
    "scale": 64000
   },
   {
    "level": 12,
    "resolution": 8.466683600033868,
    "scale": 32000
   },
   {
    "level": 13,
    "resolution": 4.233341800016934,
    "scale": 16000
   },
   {
    "level": 14,
    "resolution": 2.116670900008467,
    "scale": 8000
   },
   {
    "level": 15,
    "resolution": 1.0583354500042335,
    "scale": 4000
   },
   {
    "level": 16,
    "resolution": 0.5291677250021167,
    "scale": 2000
   },
   {
    "level": 17,
    "resolution": 0.26458386250105836,
    "scale": 1000
   }
  ]
 },
 "cacheType": "Map",
 "allowRasterFunction": true,
 "rasterFunctionInfos": [
  {
   "name": "None",
   "description": "",
   "help": ""
  }
 ],
 "rasterTypeInfos": [
  {
   "name": "Raster Dataset",
   "description": "Supports all ArcGIS Raster Datasets",
   "help": ""
  }
 ],
 "mensurationCapabilities": "None",
 "hasHistograms": true,
 "hasColormap": false,
 "hasRasterAttributeTable": false,
 "minScale": 125000000,
 "maxScale": 4000,
 "minLOD": 0,
 "maxLOD": 15,
 "exportTilesAllowed": false,
 "hasMultidimensions": false,
 "supportsStatistics": true,
 "supportsAdvancedQueries": true,
 "editFieldsInfo": null,
 "ownershipBasedAccessControlForRasters": null,
 "allowComputeTiePoints": false,
 "useStandardizedQueries": true,
 "advancedQueryCapabilities": {
  "useStandardizedQueries": true,
  "supportsStatistics": true,
  "supportsOrderBy": true,
  "supportsDistinct": true,
  "supportsPagination": true
 },
 "spatialReference": {
  "wkid": 26915,
  "latestWkid": 26915
 }
}