<?xml version="1.0" encoding="UTF-8" standalone="no"?>
<metadata>
<idinfo>
<citation>
<citeinfo>
<origin>Phillip Hanberry (Data Steward), Missouri Resource Assessment Partnership (MoRAP) - University of Missouri, Senior Research Associate</origin>
<origin>Nate Muenks (Owner), Missouri Department of Conservation, Statewide Resource Management Branch (SRM), Natural Resource Planning Section Chief</origin>
<pubdate>20240516</pubdate>
<title>Boone County 2023 1m Canopy Height Model</title>
<geoform>remote-sensing image</geoform>
</citeinfo>
</citation>
<descript>
<abstract>This was completed for a collaborative project related to OneHealth within Boone County,Missouri and is intended to determine treed greenspace within the county. Both interest in treed tract sizes and the potential to map urban heat islands led to the creation of the layer.</abstract>
<purpose>Canopy height model of vegetation, greater than or equal to 10 feet, within Boone County, Missouri derived from QL0 lidar data collected in February 2023.</purpose>
</descript>
<timeperd>
<timeinfo>
<sngdate>
<caldate>20240516</caldate>
</sngdate>
</timeinfo>
<current>The geographic extents and publication date of the dataset.</current>
</timeperd>
<status>
<progress>In work</progress>
<update>As needed</update>
</status>
<spdom>
<bounding>
<westbc>-92.572252</westbc>
<eastbc>-92.104356</eastbc>
<northbc>39.249390</northbc>
<southbc>38.644322</southbc>
</bounding>
</spdom>
<keywords>
<theme>
<themekt>None</themekt>
<themekey>Land Cover</themekey>
</theme>
<theme>
<themekt>ISO 19115 Topic Categories</themekt>
<themekey>biota</themekey>
</theme>
</keywords>
<accconst>None</accconst>
<useconst>Although all data in this data set have been compiled by the Missouri Department of Conservation, no warranty, expressed or implied, is made by the department as to the accuracy of the data and related materials. The act of distribution shall not constitute any such warranty, and no responsibility is assumed by the department in the use of these data or related materials.</useconst>
<ptcontac>
<cntinfo>
<cntorgp>
<cntorg>Missouri Department of Conservation, Statewide Resource Management Branch (SRM)</cntorg>
<cntper>Nate Muenks (Owner)</cntper>
</cntorgp>
<cntpos>Natural Resource Planning Section Chief</cntpos>
<cntaddr>
<addrtype>mailing</addrtype>
<address>2901 West Truman Blvd</address>
<city>Jefferson City</city>
<state>MO</state>
<postal>65102</postal>
<country>US</country>
</cntaddr>
<cntvoice>(573) 522-4115 ext. 3371</cntvoice>
<cnttdd>800-735-2966</cnttdd>
<hours>Monday through Friday 8 a.m. – 5 p.m. Central time</hours>
</cntinfo>
</ptcontac>
<datacred>This dataset was created by the Missouri Department of Conservation, Statewide Resource Management Branch (SRM).</datacred>
<native>Esri ArcGIS 13.2.2.49743</native>
</idinfo>
<dataqual>
<logic>The data was created using QL0 lidar for Boone County from February 2023. An nDSM was created from a bare earth DEM and DSM created from the lidar. All points &gt;= 10 feet were selected. A buffered (2.5 m) building footprints layer from Microsoft and those created using a pretrained model in QGIS were used to remove buildings from the layer. The layer was then hand corrected by scanning at 1:2000 using NAIP 2022 and PlanetScope 2023 imagery to remove erroneous areas.</logic>
<complete>The data is a snapshot of vegetation during February 2023. Subsequent vegetation removal or growth will not be captured in the dataset. NAIP 2022 and PlanetScope 2023 imagery were used for cleaning erroneous points, but due to human error, there may still be areas where powerlines or buildings were not corrected. Height values may be inaccurate as some noise may have still been within the lidar data when it was processed to created the DEMs or DSMs. Steep locations (cliffs, building edges, pond embankments) may introduce higher height values that do not accurately represent the vegetation or their height.</complete>
<lineage>
<srcinfo>
<typesrc>None</typesrc>
<srccontr>Boone County, Missouri QL0 lidar point clouds and DEMs from February 2023.</srccontr>
</srcinfo>
<procstep>
<procdesc>Mosaiced vendor provided DEMs using ArcGIS Pro. DSMs were created from the point clouds using Quick Terrain Modeler. The resulting DEM was subtracted from the DSM to obtain an nDSM height raster.</procdesc>
<procdate>20240407</procdate>
<proccont>
<cntinfo>
<cntorgp>
<cntorg>Missouri Department of Conservation, Statewide Resource Management Branch (SRM)</cntorg>
<cntper>Phillip Hanberry (Data Steward)</cntper>
</cntorgp>
<cntpos>Senior Research Associate</cntpos>
<cntaddr>
<addrtype>mailing</addrtype>
<address>1111 Rollins St</address>
<city>Columbia</city>
<state>MO</state>
<postal>65211</postal>
<country>US</country>
</cntaddr>
<cntvoice>(573) 882-7552</cntvoice>
<cntemail>Phillip.Hanberry@mdc.mo.gov</cntemail>
<hours>Monday through Friday 8 a.m. – 5 p.m. Central time</hours>
</cntinfo>
</proccont>
</procstep>
<procstep>
<procdesc>Created building footprints using a pretrained model in QGIS to identify buildings from NAIP 2022. Buffered these and the Microsoft building footprints by 2.5 m and removed those areas from the raster using ArcGIS Pro. </procdesc>
<procdate>20240419</procdate>
<proccont>
<cntinfo>
<cntorgp>
<cntorg>Missouri Department of Conservation, Statewide Resource Management Branch (SRM)</cntorg>
<cntper>Phillip Hanberry (Data Steward)</cntper>
</cntorgp>
<cntpos>Senior Research Associate</cntpos>
<cntaddr>
<addrtype>mailing</addrtype>
<address>1111 Rollins St</address>
<city>Columbia</city>
<state>MO</state>
<postal>65211</postal>
<country>US</country>
</cntaddr>
<cntvoice>(573) 882-7552</cntvoice>
<cntemail>Phillip.Hanberry@mdc.mo.gov</cntemail>
<hours>Monday through Friday 8 a.m. – 5 p.m. Central time</hours>
</cntinfo>
</proccont>
</procstep>
<procstep>
<procdesc>Hand corrected erroneous areas within the raster at 1:2000 scale using NAIP 2022 and PlanetScope 2023 imagery.</procdesc>
<procdate>20240515</procdate>
<proccont>
<cntinfo>
<cntorgp>
<cntorg>Missouri Department of Conservation, Statewide Resource Management Branch (SRM)</cntorg>
<cntper>Phillip Hanberry (Data Steward)</cntper>
</cntorgp>
<cntpos>Senior Research Associate</cntpos>
<cntaddr>
<addrtype>mailing</addrtype>
<address>1111 Rollins St</address>
<city>Columbia</city>
<state>MO</state>
<postal>65211</postal>
<country>US</country>
</cntaddr>
<cntvoice>(573) 882-7552</cntvoice>
<cntemail>Phillip.Hanberry@mdc.mo.gov</cntemail>
<hours>Monday through Friday 8 a.m. – 5 p.m. Central time</hours>
</cntinfo>
</proccont>
</procstep>
</lineage>
</dataqual>
<spdoinfo>
<direct>Raster</direct>
<rastinfo>
<rasttype>Pixel</rasttype>
<rowcount>66859</rowcount>
<colcount>40063</colcount>
</rastinfo>
</spdoinfo>
<eainfo>
<detailed>
<enttyp>
<enttypl>Value</enttypl>
<enttypd>Height (ft) of the vegetation.</enttypd>
<enttypds>MDC</enttypds>
</enttyp>
</detailed>
</eainfo>
<metainfo>
<metd>20240516</metd>
<metc>
<cntinfo>
<cntorgp>
<cntorg>Missouri Resource Assessment Partnership (MoRAP) - University of Missouri</cntorg>
<cntper>Phillip Hanberry (Data Steward)</cntper>
</cntorgp>
<cntpos>Senior Research Associate</cntpos>
<cntaddr>
<addrtype>mailing</addrtype>
<address>1111 Rollins St</address>
<city>Columbia</city>
<state>MO</state>
<postal>65211</postal>
<country>US</country>
</cntaddr>
<cntvoice>(573) 882-7552</cntvoice>
<cntemail>Phillip.Hanberry@mdc.mo.gov</cntemail>
<hours>Monday through Friday 8 a.m. – 5 p.m. Central time</hours>
</cntinfo>
</metc>
<metstdn>FGDC Content Standard for Digital Geospatial Metadata</metstdn>
<metstdv>FGDC-STD-001-1998</metstdv>
<mettc>local time</mettc>
</metainfo>
<mdChar>
<CharSetCd value="004"/>
</mdChar>
<mdHrLv>
<ScopeCd value="005"/>
</mdHrLv>
<mdDateSt Sync="TRUE">20240517</mdDateSt>
<mdStanName>ArcGIS Metadata</mdStanName>
<mdStanVer>1.0</mdStanVer>
<dataIdInfo>
<idCitation>
<resTitle>Boone_County_2023_1m_Tree_Canopy</resTitle>
<date>
<pubDate>2024-05-16</pubDate>
</date>
<presForm>
<PresFormCd value="005"/>
</presForm>
<citRespParty>
<rpIndName>Phillip Hanberry (Data Steward)</rpIndName>
<rpOrgName>Missouri Resource Assessment Partnership (MoRAP) - University of Missouri</rpOrgName>
<rpPosName>Senior Research Associate</rpPosName>
<rpCntInfo>
<cntPhone>
<voiceNum tddtty="">(573) 882-7552</voiceNum>
</cntPhone>
<cntAddress addressType="postal">
<delPoint>1111 Rollins St</delPoint>
<city>Columbia</city>
<adminArea>MO</adminArea>
<postCode>65211</postCode>
<country>US</country>
<eMailAdd>Phillip.Hanberry@mdc.mo.gov</eMailAdd>
</cntAddress>
<cntHours>Monday through Friday 8 a.m. – 5 p.m. Central time</cntHours>
</rpCntInfo>
<role>
<RoleCd value="006"/>
</role>
<displayName>Phillip Hanberry (Data Steward)</displayName>
</citRespParty>
<citRespParty>
<rpIndName>Nate Muenks (Owner)</rpIndName>
<rpOrgName>Missouri Department of Conservation, Statewide Resource Management Branch (SRM)</rpOrgName>
<rpPosName>Natural Resource Planning Section Chief</rpPosName>
<rpCntInfo>
<cntPhone>
<voiceNum tddtty="">(573) 522-4115 ext. 3371</voiceNum>
<voiceNum tddtty="True">800-735-2966</voiceNum>
</cntPhone>
<cntAddress addressType="postal">
<delPoint>2901 West Truman Blvd</delPoint>
<city>Jefferson City</city>
<adminArea>MO</adminArea>
<postCode>65102</postCode>
<country>US</country>
</cntAddress>
<cntHours>Monday through Friday 8 a.m. – 5 p.m. Central time</cntHours>
</rpCntInfo>
<role>
<RoleCd value="006"/>
</role>
<displayName>Nate Muenks (Owner)</displayName>
</citRespParty>
</idCitation>
<idAbs>&lt;DIV STYLE="text-align:Left;"&gt;&lt;DIV&gt;&lt;DIV&gt;&lt;P&gt;&lt;SPAN&gt;This was completed for a collaborative project related to OneHealth within Boone County, Missouri and is intended to determine treed greenspace within the county. Both interest in treed tract sizes and the potential to map urban heat islands led to the creation of the layer.&lt;/SPAN&gt;&lt;/P&gt;&lt;/DIV&gt;&lt;/DIV&gt;&lt;/DIV&gt;</idAbs>
<idPurp>Canopy height model of vegetation, greater than or equal to 10 feet, within Boone County, Missouri derived from QL0 lidar data collected in February 2023.</idPurp>
<idCredit>This dataset was created by the Missouri Department of Conservation, Statewide Resource Management Branch (SRM).</idCredit>
<idStatus>
<ProgCd value="004"/>
</idStatus>
<idPoC>
<rpIndName>Nate Muenks (Owner)</rpIndName>
<rpOrgName>Missouri Department of Conservation, Statewide Resource Management Branch (SRM)</rpOrgName>
<rpPosName>Natural Resource Planning Section Chief</rpPosName>
<rpCntInfo>
<cntPhone>
<voiceNum tddtty="">(573) 522-4115 ext. 3371</voiceNum>
<voiceNum tddtty="True">800-735-2966</voiceNum>
</cntPhone>
<cntAddress addressType="postal">
<delPoint>2901 West Truman Blvd</delPoint>
<city>Jefferson City</city>
<adminArea>MO</adminArea>
<postCode>65102</postCode>
<country>US</country>
</cntAddress>
<cntHours>Monday through Friday 8 a.m. – 5 p.m. Central time</cntHours>
</rpCntInfo>
<role>
<RoleCd value="007"/>
</role>
</idPoC>
<resMaint>
<maintFreq>
<MaintFreqCd value="009"/>
</maintFreq>
</resMaint>
<themeKeys>
<keyword>Land Cover</keyword>
</themeKeys>
<searchKeys>
<keyword>Boone County</keyword>
<keyword>Conservation</keyword>
<keyword>LiDAR</keyword>
<keyword>MDC</keyword>
<keyword>Missouri Department of Conservation</keyword>
<keyword>Statewide Resource Management Branch (SRM)</keyword>
<keyword>Tree Canopy Height</keyword>
<keyword>MSDIS</keyword>
<keyword>Imagery</keyword>
<keyword>Missouri</keyword>
<keyword>2023</keyword>
</searchKeys>
<resConst>
<Consts>
<useLimit>&lt;DIV STYLE="text-align:Left;"&gt;&lt;DIV&gt;&lt;DIV&gt;&lt;P&gt;&lt;SPAN&gt;Although all data in this data set have been compiled by the Missouri Department of Conservation, no warranty, expressed or implied, is made by the department as to the accuracy of the data and related materials. The act of distribution shall not constitute any such warranty, and no responsibility is assumed by the department in the use of these data or related materials.&lt;/SPAN&gt;&lt;/P&gt;&lt;/DIV&gt;&lt;/DIV&gt;&lt;/DIV&gt;, &lt;DIV STYLE="text-align:Left;"&gt;&lt;P&gt;&lt;SPAN&gt;Although all data in this data set have been compiled by the Missouri Department of Conservation, no warranty, expressed or implied, is made by the department as to the accuracy of the data and related materials.&lt;/SPAN&gt;&lt;/P&gt;&lt;/DIV&gt;</useLimit>
<useLimit>&lt;DIV STYLE="text-align:Left;"&gt;&lt;DIV&gt;&lt;DIV&gt;&lt;P&gt;&lt;SPAN&gt;Although all data in this data set have been compiled by the Missouri Department of Conservation, no warranty, expressed or implied, is made by the department as to the accuracy of the data and related materials. The act of distribution shall not constitute any such warranty, and no responsibility is assumed by the department in the use of these data or related materials.&lt;/SPAN&gt;&lt;/P&gt;&lt;/DIV&gt;&lt;/DIV&gt;&lt;/DIV&gt;, &lt;DIV STYLE="text-align:Left;"&gt;&lt;P&gt;&lt;SPAN&gt;Although all data in this data set have been compiled by the Missouri Department of Conservation, no warranty, expressed or implied, is made by the department as to the accuracy of the data and related materials.&lt;/SPAN&gt;&lt;/P&gt;&lt;/DIV&gt;</useLimit>
</Consts>
</resConst>
<spatRpType>
<SpatRepTypCd value="002"/>
</spatRpType>
<envirDesc>Esri ArcGIS 13.2.2.49743</envirDesc>
<dataExt>
<geoEle>
<GeoBndBox>
<exTypeCode>true</exTypeCode>
<westBL>-92.572252</westBL>
<eastBL>-92.104356</eastBL>
<northBL>39.249390</northBL>
<southBL>38.644322</southBL>
</GeoBndBox>
</geoEle>
<exDesc>The geographic extents and publication date of the dataset.</exDesc>
<tempEle>
<TempExtent>
<exTemp>
<TM_Instant>
<tmPosition>2024-05-17T00:00:00</tmPosition>
</TM_Instant>
</exTemp>
</TempExtent>
</tempEle>
</dataExt>
<dataLang>
<languageCode Sync="TRUE" value="eng"/>
<countryCode Sync="TRUE" value="USA"/>
</dataLang>
<dataChar>
<CharSetCd value="004"/>
</dataChar>
<tpCat>
<TopicCatCd value="002"/>
</tpCat>
</dataIdInfo>
<dqInfo>
<dqScope>
<scpLvl>
<ScopeCd value="005"/>
</scpLvl>
</dqScope>
<report dimension="" type="DQConcConsis">
<measDesc>The data was created using QL0 lidar for Boone County from February 2023. An nDSM was created from a bare earth DEM and DSM created from the lidar. All points &gt;= 10 feet were selected. A buffered (2.5 m) building footprints layer from Microsoft and those created using a pretrained model in QGIS were used to remove buildings from the layer. The layer was then hand corrected by scanning at 1:2000 using NAIP 2022 and PlanetScope 2023 imagery to remove erroneous areas.</measDesc>
</report>
<report dimension="" type="DQCompOm">
<measDesc>The data is a snapshot of vegetation during February 2023. Subsequent vegetation removal or growth will not be captured in the dataset. NAIP 2022 and PlanetScope 2023 imagery were used for cleaning erroneous points, but due to human error, there may still be areas where powerlines or buildings were not corrected. Height values may be inaccurate as some noise may have still been within the lidar data when it was processed to created the DEMs or DSMs. Steep locations (cliffs, building edges, pond embankments) may introduce higher height values that do not accurately represent the vegetation or their height.</measDesc>
</report>
<dataLineage>
<dataSource type="">
<srcDesc>Boone County, Missouri QL0 lidar point clouds and DEMs from February 2023.</srcDesc>
</dataSource>
<prcStep>
<stepDesc>Mosaiced vendor provided DEMs using ArcGIS Pro. DSMs were created from the point clouds using Quick Terrain Modeler. The resulting DEM was subtracted from the DSM to obtain an nDSM height raster.</stepDesc>
<stepDateTm>2024-04-07T00:00:00</stepDateTm>
<stepProc>
<rpIndName>Phillip Hanberry (Data Steward)</rpIndName>
<rpOrgName>Missouri Resource Assessment Partnership (MoRAP) - University of Missouri</rpOrgName>
<rpPosName>Senior Research Associate</rpPosName>
<rpCntInfo>
<cntPhone>
<voiceNum tddtty="">(573) 882-7552</voiceNum>
</cntPhone>
<cntAddress addressType="postal">
<delPoint>1111 Rollins St</delPoint>
<city>Columbia</city>
<adminArea>MO</adminArea>
<postCode>65211</postCode>
<country>US</country>
<eMailAdd>Phillip.Hanberry@mdc.mo.gov</eMailAdd>
</cntAddress>
<cntHours>Monday through Friday 8 a.m. – 5 p.m. Central time</cntHours>
</rpCntInfo>
<role>
<RoleCd value="006"/>
</role>
<displayName>Phillip Hanberry (Data Steward)</displayName>
<displayName>Phillip Hanberry (Data Steward)</displayName>
</stepProc>
</prcStep>
<prcStep>
<stepDesc>Created building footprints using a pretrained model in QGIS to identify buildings from NAIP 2022. Buffered these and the Microsoft building footprints by 2.5 m and removed those areas from the raster using ArcGIS Pro. </stepDesc>
<stepDateTm>2024-04-19T00:00:00</stepDateTm>
<stepProc>
<rpIndName>Phillip Hanberry (Data Steward)</rpIndName>
<rpOrgName>Missouri Resource Assessment Partnership (MoRAP) - University of Missouri</rpOrgName>
<rpPosName>Senior Research Associate</rpPosName>
<rpCntInfo>
<cntPhone>
<voiceNum tddtty="">(573) 882-7552</voiceNum>
</cntPhone>
<cntAddress addressType="postal">
<delPoint>1111 Rollins St</delPoint>
<city>Columbia</city>
<adminArea>MO</adminArea>
<postCode>65211</postCode>
<country>US</country>
<eMailAdd>Phillip.Hanberry@mdc.mo.gov</eMailAdd>
</cntAddress>
<cntHours>Monday through Friday 8 a.m. – 5 p.m. Central time</cntHours>
</rpCntInfo>
<role>
<RoleCd value="006"/>
</role>
<displayName>Phillip Hanberry (Data Steward)</displayName>
<displayName>Phillip Hanberry (Data Steward)</displayName>
</stepProc>
</prcStep>
<prcStep>
<stepDesc>Hand corrected erroneous areas within the raster at 1:2000 scale using NAIP 2022 and PlanetScope 2023 imagery.</stepDesc>
<stepDateTm>2024-05-15T00:00:00</stepDateTm>
<stepProc>
<rpIndName>Phillip Hanberry (Data Steward)</rpIndName>
<rpOrgName>Missouri Resource Assessment Partnership (MoRAP) - University of Missouri</rpOrgName>
<rpPosName>Senior Research Associate</rpPosName>
<rpCntInfo>
<cntPhone>
<voiceNum tddtty="">(573) 882-7552</voiceNum>
</cntPhone>
<cntAddress addressType="postal">
<delPoint>1111 Rollins St</delPoint>
<city>Columbia</city>
<adminArea>MO</adminArea>
<postCode>65211</postCode>
<country>US</country>
<eMailAdd>Phillip.Hanberry@mdc.mo.gov</eMailAdd>
</cntAddress>
<cntHours>Monday through Friday 8 a.m. – 5 p.m. Central time</cntHours>
</rpCntInfo>
<role>
<RoleCd value="006"/>
</role>
<displayName>Phillip Hanberry (Data Steward)</displayName>
<editorSave>False</editorSave>
<displayName>Phillip Hanberry (Data Steward)</displayName>
</stepProc>
</prcStep>
<statement>The data was created using QL0 lidar for Boone County from February 2023. An nDSM was created from a bare earth DEM and DSM created from the lidar. All points &gt;= 10 feet were selected. A buffered (2.5 m) building footprints layer from Microsoft and those created using a pretrained model in QGIS were used to remove buildings from the layer. The layer was then hand corrected by scanning at 1:2000 using NAIP 2022 and PlanetScope 2023 imagery to remove erroneous areas.</statement>
</dataLineage>
</dqInfo>
<spatRepInfo>
<Georect>
<numDims>2</numDims>
<axisDimension type="001">
<dimSize>66859</dimSize>
<dimResol>
<value Sync="TRUE" uom="m">1.000000</value>
</dimResol>
</axisDimension>
<axisDimension type="002">
<dimSize>40063</dimSize>
<dimResol>
<value Sync="TRUE" uom="m">1.000000</value>
</dimResol>
</axisDimension>
<cellGeo>
<CellGeoCd Sync="TRUE" value="002"/>
</cellGeo>
<tranParaAv Sync="TRUE">1</tranParaAv>
<chkPtAv Sync="TRUE">0</chkPtAv>
<cornerPts>
<pos Sync="TRUE">537222.924243 4277681.929111</pos>
</cornerPts>
<cornerPts>
<pos Sync="TRUE">537222.924243 4344540.929111</pos>
</cornerPts>
<cornerPts>
<pos Sync="TRUE">577285.924243 4344540.929111</pos>
</cornerPts>
<cornerPts>
<pos Sync="TRUE">577285.924243 4277681.929111</pos>
</cornerPts>
<centerPt>
<pos Sync="TRUE">557254.424243 4311111.429111</pos>
</centerPt>
<ptInPixel>
<PixOrientCd Sync="TRUE" value="001"/>
</ptInPixel>
</Georect>
</spatRepInfo>
<Esri>
<ArcGISFormat>1.0</ArcGISFormat>
<DataProperties>
<itemProps>
<itemName Sync="TRUE">Boone_County_2023_1m_Tree_Canopy_V2.img</itemName>
<itemLocation>
<linkage Sync="TRUE">file://O:\MDC\Boone_Lidar\Final_Files\Boone_County_2023_1m_Tree_Canopy_V2.img</linkage>
<protocol Sync="TRUE">Local Area Network</protocol>
</itemLocation>
<imsContentType Sync="TRUE" export="False">002</imsContentType>
<nativeExtBox>
<westBL Sync="TRUE">537222.924243</westBL>
<eastBL Sync="TRUE">577285.924243</eastBL>
<southBL Sync="TRUE">4277681.929111</southBL>
<northBL Sync="TRUE">4344540.929111</northBL>
<exTypeCode Sync="TRUE">1</exTypeCode>
</nativeExtBox>
</itemProps>
<coordRef>
<type Sync="TRUE">Projected</type>
<geogcsn Sync="TRUE">GCS_North_American_1983</geogcsn>
<csUnits Sync="TRUE">Linear Unit: Meter (1.000000)</csUnits>
<projcsn Sync="TRUE">NAD_1983_UTM_Zone_15N</projcsn>
<peXml Sync="TRUE">&lt;ProjectedCoordinateSystem xsi:type='typens:ProjectedCoordinateSystem' xmlns:xsi='http://www.w3.org/2001/XMLSchema-instance' xmlns:xs='http://www.w3.org/2001/XMLSchema' xmlns:typens='http://www.esri.com/schemas/ArcGIS/3.2.0'&gt;&lt;WKT&gt;PROJCS[&amp;quot;NAD_1983_UTM_Zone_15N&amp;quot;,GEOGCS[&amp;quot;GCS_North_American_1983&amp;quot;,DATUM[&amp;quot;D_North_American_1983&amp;quot;,SPHEROID[&amp;quot;GRS_1980&amp;quot;,6378137.0,298.257222101]],PRIMEM[&amp;quot;Greenwich&amp;quot;,0.0],UNIT[&amp;quot;Degree&amp;quot;,0.0174532925199433]],PROJECTION[&amp;quot;Transverse_Mercator&amp;quot;],PARAMETER[&amp;quot;False_Easting&amp;quot;,500000.0],PARAMETER[&amp;quot;False_Northing&amp;quot;,0.0],PARAMETER[&amp;quot;Central_Meridian&amp;quot;,-93.0],PARAMETER[&amp;quot;Scale_Factor&amp;quot;,0.9996],PARAMETER[&amp;quot;Latitude_Of_Origin&amp;quot;,0.0],UNIT[&amp;quot;Meter&amp;quot;,1.0],AUTHORITY[&amp;quot;EPSG&amp;quot;,26915]]&lt;/WKT&gt;&lt;XOrigin&gt;-5120900&lt;/XOrigin&gt;&lt;YOrigin&gt;-9998100&lt;/YOrigin&gt;&lt;XYScale&gt;450445547.3910538&lt;/XYScale&gt;&lt;ZOrigin&gt;-100000&lt;/ZOrigin&gt;&lt;ZScale&gt;10000&lt;/ZScale&gt;&lt;MOrigin&gt;-100000&lt;/MOrigin&gt;&lt;MScale&gt;10000&lt;/MScale&gt;&lt;XYTolerance&gt;0.001&lt;/XYTolerance&gt;&lt;ZTolerance&gt;0.001&lt;/ZTolerance&gt;&lt;MTolerance&gt;0.001&lt;/MTolerance&gt;&lt;HighPrecision&gt;true&lt;/HighPrecision&gt;&lt;WKID&gt;26915&lt;/WKID&gt;&lt;LatestWKID&gt;26915&lt;/LatestWKID&gt;&lt;/ProjectedCoordinateSystem&gt;</peXml>
</coordRef>
<RasterProperties>
<General>
<PixelDepth Sync="TRUE">32</PixelDepth>
<HasColormap Sync="TRUE">FALSE</HasColormap>
<CompressionType Sync="TRUE">None</CompressionType>
<NumBands Sync="TRUE">1</NumBands>
<Format Sync="TRUE">IMAGINE Image</Format>
<HasPyramids Sync="TRUE">TRUE</HasPyramids>
<SourceType Sync="TRUE">continuous</SourceType>
<PixelType Sync="TRUE">floating point</PixelType>
<NoDataValue Sync="TRUE">-3.4028235e+38</NoDataValue>
</General>
</RasterProperties>
<lineage>
<Process Date="20240517" Time="141023" ToolSource="c:\program files\arcgis\pro\Resources\ArcToolbox\toolboxes\Data Management Tools.tbx\Rename">Rename O:\MDC\Boone_Lidar\Final_Files\Boone_County_2023_1m_Tree_Canopy_V2.img O:\MDC\Boone_Lidar\Final_Files\Boone_County_2023_1m_Tree_Canopy.img RasterDataset</Process>
</lineage>
</DataProperties>
<SyncDate>20240517</SyncDate>
<SyncTime>13554100</SyncTime>
<ModDate>20240517</ModDate>
<ModTime>14094200</ModTime>
<scaleRange>
<minScale>500000</minScale>
<maxScale>5000</maxScale>
</scaleRange>
