{
 "currentVersion": 10.81,
 "serviceDescription": "Tiled cache service of 2020 Missouri NAIP imagery. Republished 24 Nov 2022. ",
 "name": "MSDIS/NAIP2020",
 "description": "Tiled cache service of 2020 Missouri NAIP imagery. Republished 24 Nov 2022. ",
 "extent": {
  "xmin": 261413.40000000037,
  "ymin": 3979807.8000000063,
  "xmax": 852127.1999999942,
  "ymax": 4501231.200000001,
  "spatialReference": {
   "wkid": 102384,
   "latestWkid": 6344
  }
 },
 "initialExtent": {
  "xmin": 261413.40000000037,
  "ymin": 3979807.8000000063,
  "xmax": 852127.1999999942,
  "ymax": 4501231.200000001,
  "spatialReference": {
   "wkid": 102384,
   "latestWkid": 6344
  }
 },
 "fullExtent": {
  "xmin": 261413.40000000037,
  "ymin": 3979807.8000000063,
  "xmax": 852127.1999999942,
  "ymax": 4501231.200000001,
  "spatialReference": {
   "wkid": 102384,
   "latestWkid": 6344
  }
 },
 "pixelSizeX": 0.5999999999999938,
 "pixelSizeY": 0.599999999999994,
 "bandCount": 3,
 "pixelType": "U8",
 "minPixelSize": 0.5291677250021167,
 "maxPixelSize": 132291.9312505292,
 "copyrightText": "",
 "serviceDataType": "esriImageServiceDataTypeRGB",
 "minValues": [
  0,
  0,
  1
 ],
 "maxValues": [
  228,
  222,
  227
 ],
 "meanValues": [
  99.1739747669803,
  113.43288191892773,
  90.7137149905621
 ],
 "stdvValues": [
  27.13910438837156,
  20.66571844200534,
  20.42340412051371
 ],
 "objectIdField": "OBJECTID",
 "fields": [
  {
   "name": "OBJECTID",
   "type": "esriFieldTypeOID",
   "alias": "OBJECTID",
   "domain": null
  },
  {
   "name": "Shape",
   "type": "esriFieldTypeGeometry",
   "alias": "Shape",
   "domain": null
  },
  {
   "name": "Name",
   "type": "esriFieldTypeString",
   "alias": "Name",
   "domain": null,
   "length": 200
  },
  {
   "name": "MinPS",
   "type": "esriFieldTypeDouble",
   "alias": "MinPS",
   "domain": null
  },
  {
   "name": "MaxPS",
   "type": "esriFieldTypeDouble",
   "alias": "MaxPS",
   "domain": null
  },
  {
   "name": "LowPS",
   "type": "esriFieldTypeDouble",
   "alias": "LowPS",
   "domain": null
  },
  {
   "name": "HighPS",
   "type": "esriFieldTypeDouble",
   "alias": "HighPS",
   "domain": null
  },
  {
   "name": "Category",
   "type": "esriFieldTypeInteger",
   "alias": "Category",
   "domain": {
    "type": "codedValue",
    "name": "MosaicCatalogItemCategoryDomain",
    "description": "Catalog item categories.",
    "codedValues": [
     {
      "name": "Unknown",
      "code": 0
     },
     {
      "name": "Primary",
      "code": 1
     },
     {
      "name": "Overview",
      "code": 2
     },
     {
      "name": "Unprocessed Overview",
      "code": 3
     },
     {
      "name": "Partial Overview",
      "code": 4
     },
     {
      "name": "Inactive",
      "code": 5
     },
     {
      "name": "Uploaded",
      "code": 253
     },
     {
      "name": "Incomplete",
      "code": 254
     },
     {
      "name": "Custom",
      "code": 255
     }
    ],
    "mergePolicy": "esriMPTDefaultValue",
    "splitPolicy": "esriSPTDefaultValue"
   }
  },
  {
   "name": "Tag",
   "type": "esriFieldTypeString",
   "alias": "Tag",
   "domain": null,
   "length": 100
  },
  {
   "name": "GroupName",
   "type": "esriFieldTypeString",
   "alias": "GroupName",
   "domain": null,
   "length": 100
  },
  {
   "name": "ProductName",
   "type": "esriFieldTypeString",
   "alias": "ProductName",
   "domain": null,
   "length": 100
  },
  {
   "name": "CenterX",
   "type": "esriFieldTypeDouble",
   "alias": "CenterX",
   "domain": null
  },
  {
   "name": "CenterY",
   "type": "esriFieldTypeDouble",
   "alias": "CenterY",
   "domain": null
  },
  {
   "name": "ZOrder",
   "type": "esriFieldTypeInteger",
   "alias": "ZOrder",
   "domain": null
  },
  {
   "name": "Shape_Length",
   "type": "esriFieldTypeDouble",
   "alias": "Shape_Length",
   "domain": null
  },
  {
   "name": "Shape_Area",
   "type": "esriFieldTypeDouble",
   "alias": "Shape_Area",
   "domain": null
  }
 ],
 "capabilities": "Image,Metadata",
 "defaultMosaicMethod": "Northwest",
 "allowedMosaicMethods": "NorthWest,Center,LockRaster,ByAttribute,Nadir,Viewpoint,Seamline,None",
 "sortField": "",
 "sortValue": null,
 "sortAscending": true,
 "mosaicOperator": "First",
 "maxDownloadSizeLimit": 2048,
 "defaultCompressionQuality": 75,
 "defaultResamplingMethod": "Bilinear",
 "maxImageHeight": 4100,
 "maxImageWidth": 15000,
 "maxRecordCount": 1000,
 "maxDownloadImageCount": 20,
 "maxMosaicImageCount": 20,
 "singleFusedMapCache": true,
 "tileInfo": {
  "rows": 256,
  "cols": 256,
  "dpi": 96,
  "format": "MIXED",
  "compressionQuality": 75,
  "origin": {
   "x": -5120900,
   "y": 9998100
  },
  "spatialReference": {
   "wkid": 102384,
   "latestWkid": 6344
  },
  "lods": [
   {
    "level": 0,
    "resolution": 132291.9312505292,
    "scale": 500000000
   },
   {
    "level": 1,
    "resolution": 66145.9656252646,
    "scale": 250000000
   },
   {
    "level": 2,
    "resolution": 33072.9828126323,
    "scale": 125000000
   },
   {
    "level": 3,
    "resolution": 16933.367200067736,
    "scale": 64000000
   },
   {
    "level": 4,
    "resolution": 8466.683600033868,
    "scale": 32000000
   },
   {
    "level": 5,
    "resolution": 4233.341800016934,
    "scale": 16000000
   },
   {
    "level": 6,
    "resolution": 2116.670900008467,
    "scale": 8000000
   },
   {
    "level": 7,
    "resolution": 1058.3354500042335,
    "scale": 4000000
   },
   {
    "level": 8,
    "resolution": 529.1677250021168,
    "scale": 2000000
   },
   {
    "level": 9,
    "resolution": 264.5838625010584,
    "scale": 1000000
   },
   {
    "level": 10,
    "resolution": 132.2919312505292,
    "scale": 500000
   },
   {
    "level": 11,
    "resolution": 66.1459656252646,
    "scale": 250000
   },
   {
    "level": 12,
    "resolution": 33.0729828126323,
    "scale": 125000
   },
   {
    "level": 13,
    "resolution": 16.933367200067735,
    "scale": 64000
   },
   {
    "level": 14,
    "resolution": 8.466683600033868,
    "scale": 32000
   },
   {
    "level": 15,
    "resolution": 4.233341800016934,
    "scale": 16000
   },
   {
    "level": 16,
    "resolution": 2.116670900008467,
    "scale": 8000
   },
   {
    "level": 17,
    "resolution": 1.0583354500042335,
    "scale": 4000
   },
   {
    "level": 18,
    "resolution": 0.5291677250021167,
    "scale": 2000
   }
  ]
 },
 "cacheType": "Map",
 "allowRasterFunction": true,
 "rasterFunctionInfos": [
  {
   "name": "None",
   "description": "A No-Op Function.",
   "help": ""
  }
 ],
 "rasterTypeInfos": [
  {
   "name": "Raster Dataset",
   "description": "Supports all ArcGIS Raster Datasets",
   "help": ""
  }
 ],
 "mensurationCapabilities": "None",
 "hasHistograms": true,
 "hasColormap": false,
 "hasRasterAttributeTable": false,
 "minScale": 500000000,
 "maxScale": 2000,
 "minLOD": 0,
 "maxLOD": 18,
 "exportTilesAllowed": false,
 "hasMultidimensions": false,
 "supportsStatistics": true,
 "supportsAdvancedQueries": true,
 "editFieldsInfo": null,
 "ownershipBasedAccessControlForRasters": null,
 "allowComputeTiePoints": false,
 "useStandardizedQueries": true,
 "advancedQueryCapabilities": {
  "useStandardizedQueries": true,
  "supportsStatistics": true,
  "supportsOrderBy": true,
  "supportsDistinct": true,
  "supportsPagination": true
 },
 "spatialReference": {
  "wkid": 102384,
  "latestWkid": 6344
 }
}