{
 "currentVersion": 10.81,
 "serviceDescription": "GEOG1800/GEOG1800_Campus",
 "name": "GEOG1800/GEOG1800_Campus",
 "description": "",
 "extent": {
  "xmin": 558000,
  "ymin": 4310299.95,
  "xmax": 559500,
  "ymax": 4311799.95,
  "spatialReference": {
   "wkid": 102384,
   "latestWkid": 6344
  }
 },
 "initialExtent": {
  "xmin": 558000,
  "ymin": 4310299.95,
  "xmax": 559500,
  "ymax": 4311799.95,
  "spatialReference": {
   "wkid": 102384,
   "latestWkid": 6344
  }
 },
 "fullExtent": {
  "xmin": 558000,
  "ymin": 4310299.95,
  "xmax": 559500,
  "ymax": 4311799.95,
  "spatialReference": {
   "wkid": 102384,
   "latestWkid": 6344
  }
 },
 "pixelSizeX": 0.15,
 "pixelSizeY": 0.15,
 "datasetFormat": "TIFF",
 "uncompressedSize": 400000000,
 "blockWidth": 256,
 "blockHeight": 256,
 "compressionType": "DEFLATE",
 "bandNames": [
  "Band_1",
  "Band_2",
  "Band_3",
  "Band_4"
 ],
 "allowCopy": true,
 "allowAnalysis": true,
 "bandCount": 4,
 "noDataValue": 0,
 "noDataValues": [
  0,
  0,
  0,
  0
 ],
 "pixelType": "U8",
 "minPixelSize": 0,
 "maxPixelSize": 0,
 "copyrightText": "",
 "serviceDataType": "esriImageServiceDataTypeGeneric",
 "serviceSourceType": "esriImageServiceSourceTypeDataset",
 "minValues": [],
 "maxValues": [],
 "meanValues": [],
 "stdvValues": [],
 "objectIdField": "",
 "fields": [],
 "capabilities": "Image,Metadata,Mensuration",
 "defaultMosaicMethod": "Center",
 "allowedMosaicMethods": "",
 "sortField": "",
 "sortValue": null,
 "sortAscending": true,
 "mosaicOperator": "First",
 "defaultCompressionQuality": 75,
 "defaultResamplingMethod": "Bilinear",
 "maxImageHeight": 4100,
 "maxImageWidth": 15000,
 "allowRasterFunction": true,
 "rasterFunctionInfos": [
  {
   "name": "None",
   "description": "",
   "help": ""
  }
 ],
 "rasterTypeInfos": [
  {
   "name": "Raster Dataset",
   "description": "Supports all ArcGIS Raster Datasets",
   "help": ""
  }
 ],
 "mensurationCapabilities": "Basic",
 "hasHistograms": false,
 "hasColormap": false,
 "hasRasterAttributeTable": false,
 "minScale": 0,
 "maxScale": 0,
 "exportTilesAllowed": false,
 "hasMultidimensions": false,
 "supportsStatistics": false,
 "supportsAdvancedQueries": false,
 "editFieldsInfo": null,
 "ownershipBasedAccessControlForRasters": null,
 "allowComputeTiePoints": false,
 "useStandardizedQueries": true,
 "advancedQueryCapabilities": {
  "useStandardizedQueries": true,
  "supportsStatistics": false,
  "supportsOrderBy": false,
  "supportsDistinct": false,
  "supportsPagination": false
 },
 "spatialReference": {
  "wkid": 102384,
  "latestWkid": 6344
 }
}
