{
 "currentVersion": 10.81,
 "serviceDescription": "Boone County, MO contracted with Surdex Corporation in the fall of 2014 to collect high resolution LiDAR elevation data over Boone County Missouri. LiDAR data was acquired leaf-off, snow-free and while water bodies are at below to normal levels by Surdex for Boone County from January 30 to March 12, 2015.",
 "name": "LiDAR/Boone_2015_UTM",
 "description": "Boone County, MO contracted with Surdex Corporation in the fall of 2014 to collect high resolution LiDAR elevation data over Boone County Missouri. LiDAR data was acquired leaf-off, snow-free and while water bodies are at below to normal levels by Surdex for Boone County from January 30 to March 12, 2015.",
 "extent": {
  "xmin": 536382.0569000002,
  "ymin": 4276729.9325897135,
  "xmax": 578187.2893104648,
  "ymax": 4345285.0761,
  "spatialReference": {
   "wkid": 26915,
   "latestWkid": 26915
  }
 },
 "initialExtent": {
  "xmin": 536382.0569000002,
  "ymin": 4276729.9325897135,
  "xmax": 578187.2893104648,
  "ymax": 4345285.0761,
  "spatialReference": {
   "wkid": 26915,
   "latestWkid": 26915
  }
 },
 "fullExtent": {
  "xmin": 536382.0569000002,
  "ymin": 4276729.9325897135,
  "xmax": 578187.2893104648,
  "ymax": 4345285.0761,
  "spatialReference": {
   "wkid": 26915,
   "latestWkid": 26915
  }
 },
 "pixelSizeX": 0.6096012192024345,
 "pixelSizeY": 0.6096012192024355,
 "bandCount": 1,
 "pixelType": "F32",
 "minPixelSize": 0,
 "maxPixelSize": 0,
 "copyrightText": "",
 "serviceDataType": "esriImageServiceDataTypeGeneric",
 "minValues": [
  209.79708862304688
 ],
 "maxValues": [
  952.3970336914062
 ],
 "meanValues": [
  769.0784952608898
 ],
 "stdvValues": [
  98.13799403986525
 ],
 "objectIdField": "",
 "fields": [],
 "capabilities": "Image,Metadata,Mensuration",
 "defaultMosaicMethod": "Center",
 "allowedMosaicMethods": "",
 "sortField": "",
 "sortValue": null,
 "sortAscending": true,
 "mosaicOperator": "First",
 "defaultCompressionQuality": 75,
 "defaultResamplingMethod": "Bilinear",
 "maxImageHeight": 4100,
 "maxImageWidth": 15000,
 "allowRasterFunction": true,
 "rasterFunctionInfos": [
  {
   "name": "None",
   "description": "",
   "help": ""
  }
 ],
 "rasterTypeInfos": [
  {
   "name": "Raster Dataset",
   "description": "Supports all ArcGIS Raster Datasets",
   "help": ""
  }
 ],
 "mensurationCapabilities": "Basic",
 "hasHistograms": true,
 "hasColormap": false,
 "hasRasterAttributeTable": false,
 "minScale": 0,
 "maxScale": 0,
 "exportTilesAllowed": false,
 "hasMultidimensions": false,
 "supportsStatistics": false,
 "supportsAdvancedQueries": false,
 "editFieldsInfo": null,
 "ownershipBasedAccessControlForRasters": null,
 "allowComputeTiePoints": false,
 "useStandardizedQueries": true,
 "advancedQueryCapabilities": {
  "useStandardizedQueries": true,
  "supportsStatistics": false,
  "supportsOrderBy": false,
  "supportsDistinct": false,
  "supportsPagination": false
 },
 "spatialReference": {
  "wkid": 26915,
  "latestWkid": 26915
 }
}
