View In:
ArcGIS JavaScript
ArcGIS Online Map Viewer
ArcGIS Earth
ArcMap
View Footprint In:
ArcGIS Online Map Viewer
Service Description: 12 inch resolution imagery of 2019 Mississippi River flooding collected by Surdex June 2019.
Name: EmergencyImagery/MississippiRiverFlooding2019_12inch
Description: 12 inch resolution imagery of 2019 Mississippi River flooding collected by Surdex June 2019.
Single Fused Map Cache: false
Extent:
XMin: 598954
YMin: 413774
XMax: 1228954
YMax: 1503774
Spatial Reference: PROJCS["NAD_1983_2011_StatePlane_Missouri_East_FIPS_2401_Feet",GEOGCS["GCS_NAD_1983_2011",DATUM["D_NAD_1983_2011",SPHEROID["GRS_1980",6378137.0,298.257222101]],PRIMEM["Greenwich",0.0],UNIT["Degree",0.0174532925199433]],PROJECTION["Transverse_Mercator"],PARAMETER["false_easting",820208.3333333333],PARAMETER["false_northing",0.0],PARAMETER["central_meridian",-90.5],PARAMETER["scale_factor",0.9999333333333333],PARAMETER["latitude_of_origin",35.83333333333334],UNIT["Foot_US",0.3048006096012192]]
Initial Extent:
XMin: 598954
YMin: 413774
XMax: 1228954
YMax: 1503774
Spatial Reference: PROJCS["NAD_1983_2011_StatePlane_Missouri_East_FIPS_2401_Feet",GEOGCS["GCS_NAD_1983_2011",DATUM["D_NAD_1983_2011",SPHEROID["GRS_1980",6378137.0,298.257222101]],PRIMEM["Greenwich",0.0],UNIT["Degree",0.0174532925199433]],PROJECTION["Transverse_Mercator"],PARAMETER["false_easting",820208.3333333333],PARAMETER["false_northing",0.0],PARAMETER["central_meridian",-90.5],PARAMETER["scale_factor",0.9999333333333333],PARAMETER["latitude_of_origin",35.83333333333334],UNIT["Foot_US",0.3048006096012192]]
Full Extent:
XMin: 598954
YMin: 413774
XMax: 1228954
YMax: 1503774
Spatial Reference: PROJCS["NAD_1983_2011_StatePlane_Missouri_East_FIPS_2401_Feet",GEOGCS["GCS_NAD_1983_2011",DATUM["D_NAD_1983_2011",SPHEROID["GRS_1980",6378137.0,298.257222101]],PRIMEM["Greenwich",0.0],UNIT["Degree",0.0174532925199433]],PROJECTION["Transverse_Mercator"],PARAMETER["false_easting",820208.3333333333],PARAMETER["false_northing",0.0],PARAMETER["central_meridian",-90.5],PARAMETER["scale_factor",0.9999333333333333],PARAMETER["latitude_of_origin",35.83333333333334],UNIT["Foot_US",0.3048006096012192]]
Pixel Size X: 1.0
Pixel Size Y: 1.0
Band Count: 4
Pixel Type: U8
RasterFunction Infos: {"rasterFunctionInfos": [{
"name": "None",
"description": "",
"help": ""
}]}
Mensuration Capabilities: None
Has Histograms: true
Has Colormap: false
Has Multi Dimensions : false
Rendering Rule:
Min Scale: 0
Max Scale: 0
Copyright Text:
Service Data Type: esriImageServiceDataTypeGeneric
Min Values: 20, 22, 16, 2
Max Values: 239, 241, 241, 235
Mean Values: 99.75243601403145, 106.78079121735742, 84.90734214629076, 108.62470767831623
Standard Deviation Values: 42.1027468962188, 32.66825673602083, 36.15306574420179, 50.914403618645196
Object ID Field: OBJECTID
Fields:
-
OBJECTID
(
type: esriFieldTypeOID, alias: OBJECTID
)
-
Shape
(
type: esriFieldTypeGeometry, alias: Shape
)
-
Name
(
type: esriFieldTypeString, alias: Name, length: 200
)
-
MinPS
(
type: esriFieldTypeDouble, alias: MinPS
)
-
MaxPS
(
type: esriFieldTypeDouble, alias: MaxPS
)
-
LowPS
(
type: esriFieldTypeDouble, alias: LowPS
)
-
HighPS
(
type: esriFieldTypeDouble, alias: HighPS
)
-
Category
(
type: esriFieldTypeInteger, alias: Category
,
Coded Values:
[0: Unknown]
,
[1: Primary]
,
[2: Overview]
, ...6 more...
)
-
Tag
(
type: esriFieldTypeString, alias: Tag, length: 100
)
-
GroupName
(
type: esriFieldTypeString, alias: GroupName, length: 100
)
-
ProductName
(
type: esriFieldTypeString, alias: ProductName, length: 100
)
-
CenterX
(
type: esriFieldTypeDouble, alias: CenterX
)
-
CenterY
(
type: esriFieldTypeDouble, alias: CenterY
)
-
ZOrder
(
type: esriFieldTypeInteger, alias: ZOrder
)
-
Shape_Length
(
type: esriFieldTypeDouble, alias: Shape_Length
)
-
Shape_Area
(
type: esriFieldTypeDouble, alias: Shape_Area
)
Default Mosaic Method: Northwest
Allowed Mosaic Methods: NorthWest,Center,LockRaster,ByAttribute,Nadir,Viewpoint,Seamline,None
SortField:
SortValue: null
Mosaic Operator: First
Default Compression Quality: 75
Default Resampling Method: Bilinear
Max Record Count: 1000
Max Image Height: 4100
Max Image Width: 15000
Max Download Image Count: 20
Max Mosaic Image Count: 20
Allow Raster Function: true
Allow Copy: null
Allow Analysis: null
Allow Compute TiePoints: false
Supports Statistics: true
Supports Advanced Queries: true
Use StandardizedQueries: true
Raster Type Infos:
Name: Raster Dataset
Description: Supports all ArcGIS Raster Datasets
Help:
Has Raster Attribute Table: false
Edit Fields Info: null
Ownership Based AccessControl For Rasters: null
Child Resources:
Info
Histograms
Key Properties
Legend
Raster Function Infos
Supported Operations:
Export Image
Identify
Compute Histograms
Compute Statistics Histograms
Get Samples
Compute Class Statistics
Query Boundary
Compute Pixel Location
Validate
Project